{"text_format":"1","workbook":"xlsx","n_sheets":3,"sheets":["Anwendung","SG","GD1"],"not_rendered":{"charts":2,"images":7,"macros":1,"external_links":0,"defined_names":1,"comments":2,"pivot_tables":0},"unopened":[],"bounds":{"document_bytes":16777216,"sheet_cells":100000,"rows_first":2000,"rows_last":500,"rows_between":2000,"halvings":0,"cell_chars":16384,"cell_head_chars":4096},"cells_cut":0,"cells_raw":0,"read":"whole","date_system":"1900"}

{"sheet":"Anwendung","index":0,"n_rows":15,"n_cols":21,"rows_kept":15,"cut":false,"hidden":false,"merged":[[9,11,9,12],[9,16,9,17]]}
[]
[null,"Eingabe",null,null,null,null,null,null,null,null,"System"]
[]
[null,"stat. System:",null,null,null,null,null,null,null,"F =",{"$f":"CONCATENATE(H12, \" [kN]\")","v":"1 [kN]"}]
[]
[null,"Einflusslinie:"]
[]
[null,"für Schnitt:",null,null,null,null,null,{"$f":"'GD1'!K10","v":6},"von",{"$f":"'GD1'!E11","v":16},null,null,null,"L = 6,0 m",null,null,null,{"$f":"IF(AND('GD1'!D10>1,'GD1'!D10<4),\"L = 2,0 m\",\"\")","v":"L = 2,0 m"},{"$f":"IF('GD1'!D10=4,\"L = 6,0 m\",\"\")","v":""},{"$f":"IF('GD1'!D10=3,\"L = 4,0 m\",\"\")","v":""}]
[null,"(roter Strich)"]
[null,null,null,null,{"$f":"IF('GD1'!J10=2,\"Schnitt rastet bei nächster Auflagerachse ein!\",\"\")","v":""},null,null,null,null,null,"A =",1,null,null,null,"B =",0,null,null,{"$f":"IF('GD1'!D10>2,\"C =\",\"\")","v":""}]
[]
[null,"Lastfaktor:",null,null,null,null,null,{"$f":"'GD1'!D12-100","v":1},null,null,"Lastposition:",null,null,null,null,null,"Last in Schnitt:",null,{"$f":"'GD1'!D11","v":0},"von",{"$f":"J8","v":16}]
[]
[]
[null,"Einflusslinie",null,"für",{"$f":"'GD1'!J14","v":"Biegemoment"},null,{"$f":"CONCATENATE(\"im Schnitt \",H8)","v":"im Schnitt 6"},null,null,null,"Schnittgrößenverlauf",null,null,null,{"$f":"IF('GD1'!J10=1,\"Biegemoment\",\"Querkraft\")","v":"Biegemoment"},null,{"$f":"IF('GD1'!D13=1,\"in [kNm]\",\"in [kN]\")","v":"in [kNm]"}]

{"sheet":"SG","index":1,"n_rows":87,"n_cols":104,"rows_kept":87,"cut":false,"hidden":false,"merged":[]}
[1,2,3,4,5,6,7,8,9,10,11,12,13,14,15,16,17,18,19,20,21,22,23,24,25,26,27,28,29,30,31,32,33,34,35,36,37,38,39,40,41,42,43,44,45,46,47,48,49,50,51,52,53,54,55,56,57,58,59,60,61,62,63,64,65,66,67,68,69,70,71,72,73,74,75,76,77,78,79,80,81,82,83,84,85,86,87,88,89,90,91,92,93,94,95,96,97,98,99,100,101,102,103,104]
[null,"System 1",null,null,null,null,null,null,null,null,null,null,null,null,null,null,null,null,null,null,"System 2",null,null,null,null,null,null,null,null,null,null,null,null,null,null,null,null,null,null,null,null,null,null,"System 3",null,null,null,null,null,null,null,null,null,null,null,null,null,null,null,null,null,null,null,null,null,null,null,null,null,null,null,null,null,null,"System 4"]
[]
[null,"Biegemomente",null,null,"F =",{"$f":"'GD1'!$F$12","v":1},null,null,null,null,null,null,null,null,null,null,null,null,null,null,"Biegemomente",null,null,"F =",{"$f":"'GD1'!$F$12","v":1},null,null,null,null,null,null,null,null,null,null,null,null,null,null,null,null,null,null,"Biegemomente",null,null,"F =",{"$f":"'GD1'!$F$12","v":1},null,null,null,null,null,null,null,null,null,null,null,null,null,null,null,null,null,null,null,null,null,null,null,null,null,null,"Biegemomente",null,null,"F =",{"$f":"'GD1'!$F$12","v":1}]
[null,"Schn.","a",0,0.5,1,1.5,2,2.5,3,3.5,4,4.5,5,5.5,6,null,null,null,null,"Schn.","a",0,0.5,1,1.5,2,2.5,3,3.5,4,4.5,5,5.5,6,6.5,7,7.5,8,null,null,null,null,"Schn.","a",0,0.5,1,1.5,2,2.5,3,3.5,4,4.5,5,5.5,6,6.5,7,7.5,8,8.5,9,9.5,10,10.5,11,11.5,12,null,null,null,null,"Schn.","a",0,0.5,1,1.5,2,2.5,3,3.5,4,4.5,5,5.5,6,6.5,7,7.5,8,8.5,9,9.5,10,10.5,11,11.5,12]
[null,0,0,{"$f":"IF($C6<=D$5,D$34*$C6,D$35*(6-$C6))","v":0},0,0,0,0,0,0,0,0,0,0,0,0,null,null,null,null,0,0,{"$f":"IF($V6<=W$5,W$34*$V6,W$35*(6-$V6))","v":0},0,0,0,0,0,0,0,0,0,0,0,0,{"$f":"AJ$34*$V6","v":0},0,0,0,null,null,null,null,0,0,{"$f":"IF($V6<=AT$5,AT$34*$V6,AT$35*(6-$V6))","v":0},0,0,0,0,0,0,0,0,0,0,0,0,{"$f":"BG$34*$V6","v":0},0,0,0,{"$f":"$BJ6*(4-(BK$5-8))/4","v":0},{"$f":"$BJ6*(4-(BL$5-8))/4","v":0},0,0,0,0,0,0,null,null,null,null,0,0,0,{"$f":"BZ$34*$BX6","v":0},0,0,0,0,0,0,0,0,0,0,0,{"$f":"CL$34*$BX6","v":0},0,0,0,0,0,0,0,0,0,0,0]
[null,1,0.5,0,0.45833333333333331,0.41666666666666669,0.375,0.33333333333333331,0.29166666666666669,0.25,0.20833333333333334,0.16666666666666666,0.125,8.3333333333333329E-2,4.1666666666666664E-2,0,null,null,null,null,1,0.5,0,0.45833333333333331,0.41666666666666669,0.375,0.33333333333333331,0.29166666666666669,0.25,0.20833333333333334,0.16666666666666666,0.125,8.3333333333333329E-2,4.1666666666666664E-2,0,-4.1666666666666664E-2,-8.3333333333333329E-2,-0.125,-0.16666666666666666,null,null,null,null,1,0.5,0,0.45833333333333331,0.41666666666666669,0.375,0.33333333333333331,0.29166666666666669,0.25,0.20833333333333334,0.16666666666666666,0.125,8.3333333333333329E-2,4.1666666666666664E-2,0,-4.1666666666666664E-2,-8.3333333333333329E-2,-0.125,-0.16666666666666666,{"$f":"$BJ7*(4-(BK$5-8))/4","v":-0.14583333333333331},-0.125,-0.10416666666666666,-8.3333333333333329E-2,-6.25E-2,-4.1666666666666664E-2,-2.0833333333333332E-2,0,null,null,null,null,1,0.5,0,0.44799,0.39640999999999998,0.34570499999999998,0.29629499999999998,0.24862500000000001,0.203125,0.16023000000000001,0.12037,8.3985000000000004E-2,5.1505000000000002E-2,2.3365E-2,0,-1.83E-2,-3.1829999999999997E-2,-4.1015000000000003E-2,-4.6295000000000003E-2,-4.8105000000000002E-2,-4.6875E-2,-4.3040000000000002E-2,-3.7034999999999998E-2,-2.9295000000000002E-2,-2.0254999999999999E-2,-1.0345E-2,0]
[null,2,1,0,0.41666666666666685,0.83333333333333337,0.75,0.66666666666666663,0.58333333333333337,0.5,0.41666666666666669,0.33333333333333331,0.25,0.16666666666666666,8.3333333333333329E-2,0,null,null,null,null,2,1,0,0.41666666666666685,0.83333333333333337,0.75,0.66666666666666663,0.58333333333333337,0.5,0.41666666666666669,0.33333333333333331,0.25,0.16666666666666666,8.3333333333333329E-2,0,-8.3333333333333329E-2,-0.16666666666666666,-0.25,-0.33333333333333331,null,null,null,null,2,1,0,0.41666666666666685,0.83333333333333337,0.75,0.66666666666666663,0.58333333333333337,0.5,0.41666666666666669,0.33333333333333331,0.25,0.16666666666666666,8.3333333333333329E-2,0,-8.3333333333333329E-2,-0.16666666666666666,-0.25,-0.33333333333333331,-0.29166666666666663,-0.25,-0.20833333333333331,-0.16666666666666666,-0.125,-8.3333333333333329E-2,-4.1666666666666664E-2,0,null,null,null,null,2,1,0,{"$f":"BZ$34*$BX8-($BX8-BZ$5)*$CA$4","v":0.39598},0.79281999999999997,0.69140999999999997,0.59258999999999995,0.49725000000000003,0.40625,0.32046000000000002,0.24074000000000001,0.16797000000000001,0.10301,4.6730000000000001E-2,0,-3.6600000000000001E-2,-6.3659999999999994E-2,-8.2030000000000006E-2,-9.2590000000000006E-2,-9.6210000000000004E-2,-9.375E-2,-8.6080000000000004E-2,-7.4069999999999997E-2,-5.8590000000000003E-2,-4.0509999999999997E-2,-2.069E-2,0]
[null,3,1.5,0,0.37500000000000017,0.74999999999999978,1.125,1,0.875,0.75,0.625,0.5,0.375,0.25,0.125,0,null,null,null,null,3,1.5,0,0.37500000000000017,0.74999999999999978,1.125,1,0.875,0.75,0.625,0.5,0.375,0.25,0.125,0,-0.125,-0.25,-0.375,-0.5,null,null,null,null,3,1.5,0,0.37500000000000017,0.74999999999999978,1.125,1,0.875,0.75,0.625,0.5,0.375,0.25,0.125,0,-0.125,-0.25,-0.375,-0.5,-0.4375,-0.375,-0.3125,-0.25,-0.1875,-0.125,-6.25E-2,0,null,null,null,null,3,1.5,0,{"$f":"BZ$34*$BX9-($BX9-BZ$5)*$CA$4","v":0.34397000000000011},{"$f":"CA$34*$BX9-($BX9-CA$5)*$CA$4","v":0.68923000000000001},1.037115,0.88888499999999993,0.74587500000000007,0.609375,0.48069000000000006,0.36111000000000004,0.25195500000000004,0.15451500000000001,7.0095000000000005E-2,0,-5.4900000000000004E-2,-9.5489999999999992E-2,-0.12304500000000002,-0.13888500000000001,-0.144315,-0.140625,-0.12912000000000001,-0.111105,-8.7885000000000005E-2,-6.0765E-2,-3.1035E-2,0]
[null,4,2,0,0.33333333333333348,0.66666666666666652,1,1.3333333333333333,1.1666666666666667,1,0.83333333333333337,0.66666666666666663,0.5,0.33333333333333331,0.16666666666666666,0,null,null,null,null,4,2,0,0.33333333333333348,0.66666666666666652,1,1.3333333333333333,1.1666666666666667,1,0.83333333333333337,0.66666666666666663,0.5,0.33333333333333331,0.16666666666666666,0,-0.16666666666666666,-0.33333333333333331,-0.5,-0.66666666666666663,null,null,null,null,4,2,0,0.33333333333333348,0.66666666666666652,1,1.3333333333333333,1.1666666666666667,1,0.83333333333333337,0.66666666666666663,0.5,0.33333333333333331,0.16666666666666666,0,-0.16666666666666666,-0.33333333333333331,-0.5,-0.66666666666666663,-0.58333333333333326,-0.5,-0.41666666666666663,-0.33333333333333331,-0.25,-0.16666666666666666,-8.3333333333333329E-2,0,null,null,null,null,4,2,0,0.29196,0.58563999999999994,0.88281999999999994,1.1851799999999999,0.99450000000000005,0.8125,0.64092000000000005,0.48148000000000002,0.33594000000000002,0.20602000000000001,9.3460000000000001E-2,0,-7.3200000000000001E-2,-0.12731999999999999,-0.16406000000000001,-0.18518000000000001,-0.19242000000000001,-0.1875,-0.17216000000000001,-0.14813999999999999,-0.11718000000000001,-8.1019999999999995E-2,-4.138E-2,0]
[null,5,2.5,0,0.2916666666666668,0.58333333333333326,0.875,1.1666666666666667,1.4583333333333335,1.25,1.0416666666666667,0.83333333333333326,0.625,0.41666666666666663,0.20833333333333331,0,null,null,null,null,5,2.5,0,0.2916666666666668,0.58333333333333326,0.875,1.1666666666666667,1.4583333333333335,1.25,1.0416666666666667,0.83333333333333326,0.625,0.41666666666666663,0.20833333333333331,0,-0.20833333333333331,-0.41666666666666663,-0.625,-0.83333333333333326,null,null,null,null,5,2.5,0,0.2916666666666668,0.58333333333333326,0.875,1.1666666666666667,1.4583333333333335,1.25,1.0416666666666667,0.83333333333333326,0.625,0.41666666666666663,0.20833333333333331,0,-0.20833333333333331,-0.41666666666666663,-0.625,-0.83333333333333326,-0.72916666666666663,-0.625,-0.52083333333333326,-0.41666666666666663,-0.3125,-0.20833333333333331,-0.10416666666666666,0,null,null,null,null,5,2.5,0,0.23994999999999989,0.48204999999999987,0.72852499999999987,0.98147499999999988,1.243125,1.015625,0.80115000000000003,0.60185,0.41992499999999999,0.257525,0.116825,0,-9.1499999999999998E-2,-0.15914999999999999,-0.20507500000000001,-0.23147500000000001,-0.24052500000000002,-0.234375,-0.2152,-0.18517499999999998,-0.14647500000000002,-0.10127499999999999,-5.1725E-2,0]
[null,6,3,0,0.25000000000000011,0.49999999999999989,0.75,1,1.25,1.5,1.25,1,0.75,0.5,0.25,0,null,null,null,null,6,3,0,0.25000000000000011,0.49999999999999989,0.75,1,1.25,1.5,1.25,1,0.75,0.5,0.25,0,-0.25,-0.5,-0.75,-1,null,null,null,null,6,3,0,0.25000000000000011,0.49999999999999989,0.75,1,1.25,1.5,1.25,1,0.75,0.5,0.25,0,-0.25,-0.5,-0.75,-1,-0.875,-0.75,-0.625,-0.5,-0.375,-0.25,-0.125,0,null,null,null,null,6,3,0,0.18794000000000022,0.37846000000000002,0.57423000000000002,0.77776999999999985,0.99175000000000013,1.21875,0.96138000000000012,0.72222000000000008,0.50391000000000008,0.30903000000000003,0.14019000000000001,0,-0.10980000000000001,-0.19097999999999998,-0.24609000000000003,-0.27777000000000002,-0.28863,-0.28125,-0.25824000000000003,-0.22220999999999999,-0.17577000000000001,-0.12153,-6.207E-2,0]
[null,7,3.5,0,0.20833333333333343,0.41666666666666657,0.625,0.83333333333333348,1.0416666666666665,1.25,1.4583333333333335,1.1666666666666665,0.875,0.58333333333333326,0.29166666666666663,0,null,null,null,null,7,3.5,0,0.20833333333333343,0.41666666666666657,0.625,0.83333333333333348,1.0416666666666665,1.25,1.4583333333333335,1.1666666666666665,0.875,0.58333333333333326,0.29166666666666663,0,-0.29166666666666663,-0.58333333333333326,-0.875,-1.1666666666666665,null,null,null,null,7,3.5,0,0.20833333333333343,0.41666666666666657,0.625,0.83333333333333348,1.0416666666666665,1.25,1.4583333333333335,1.1666666666666665,0.875,0.58333333333333326,0.29166666666666663,0,-0.29166666666666663,-0.58333333333333326,-0.875,-1.1666666666666665,-1.0208333333333333,-0.87499999999999989,-0.72916666666666652,-0.58333333333333326,-0.43749999999999994,-0.29166666666666663,-0.14583333333333331,0,null,null,null,null,7,3.5,0,0.13593000000000011,0.27486999999999995,0.41993499999999973,0.57406500000000005,0.74037500000000001,0.921875,1.12161,0.84259000000000006,0.58789500000000006,0.36053499999999999,0.16355500000000001,0,-0.12809999999999999,-0.22280999999999998,-0.287105,-0.32406500000000005,-0.33673500000000001,-0.328125,-0.30127999999999999,-0.259245,-0.205065,-0.14178499999999999,-7.2415000000000007E-2,0]
[null,8,4,0,0.16666666666666674,0.33333333333333326,0.5,0.66666666666666674,0.83333333333333326,1,1.1666666666666665,1.3333333333333333,1,0.66666666666666663,0.33333333333333331,0,null,null,null,null,8,4,0,0.16666666666666674,0.33333333333333326,0.5,0.66666666666666674,0.83333333333333326,1,1.1666666666666665,1.3333333333333333,1,0.66666666666666663,0.33333333333333331,0,-0.33333333333333331,-0.66666666666666663,-1,-1.3333333333333333,null,null,null,null,8,4,0,0.16666666666666674,0.33333333333333326,0.5,0.66666666666666674,0.83333333333333326,1,1.1666666666666665,1.3333333333333333,1,0.66666666666666663,0.33333333333333331,0,-0.33333333333333331,-0.66666666666666663,-1,-1.3333333333333333,-1.1666666666666665,-1,-0.83333333333333326,-0.66666666666666663,-0.5,-0.33333333333333331,-0.16666666666666666,0,null,null,null,null,8,4,0,8.3919999999999995E-2,0.17127999999999988,0.26563999999999988,0.3703599999999998,0.4890000000000001,0.625,0.78184000000000009,0.96296000000000004,0.67188000000000003,0.41204000000000002,0.18692,0,-0.1464,-0.25463999999999998,-0.32812000000000002,-0.37036000000000002,-0.38484000000000002,-0.375,-0.34432000000000001,-0.29627999999999999,-0.23436000000000001,-0.16203999999999999,-8.276E-2,0]
[null,9,4.5,0,0.12500000000000006,0.24999999999999994,0.375,0.5,0.625,0.75,0.87499999999999989,1,1.125,0.75,0.375,0,null,null,null,null,9,4.5,0,0.12500000000000006,0.24999999999999994,0.375,0.5,0.625,0.75,0.87499999999999989,1,1.125,0.75,0.375,0,-0.375,-0.75,-1.125,-1.5,null,null,null,null,9,4.5,0,0.12500000000000006,0.24999999999999994,0.375,0.5,0.625,0.75,0.87499999999999989,1,1.125,0.75,0.375,0,-0.375,-0.75,-1.125,-1.5,-1.3125,-1.125,-0.9375,-0.75,-0.5625,-0.375,-0.1875,0,null,null,null,null,9,4.5,0,3.1909999999999883E-2,6.7689999999999806E-2,0.11134500000000003,0.16665499999999955,0.23762499999999998,0.328125,0.44207000000000019,0.58333000000000013,0.75586500000000001,0.46354500000000004,0.210285,0,-0.16470000000000001,-0.28647,-0.36913500000000005,-0.416655,-0.43294500000000002,-0.421875,-0.38736000000000004,-0.33331499999999997,-0.26365500000000003,-0.18229499999999998,-9.3104999999999993E-2,0]
[null,10,5,0,8.333333333333337E-2,0.16666666666666663,0.25,0.33333333333333337,0.41666666666666663,0.5,0.58333333333333326,0.66666666666666674,0.75,0.83333333333333326,0.41666666666666663,0,null,null,null,null,10,5,0,8.333333333333337E-2,0.16666666666666663,0.25,0.33333333333333337,0.41666666666666663,0.5,0.58333333333333326,0.66666666666666674,0.75,0.83333333333333326,0.41666666666666663,0,-0.41666666666666663,-0.83333333333333326,-1.25,-1.6666666666666665,null,null,null,null,10,5,0,8.333333333333337E-2,0.16666666666666663,0.25,0.33333333333333337,0.41666666666666663,0.5,0.58333333333333326,0.66666666666666674,0.75,0.83333333333333326,0.41666666666666663,0,-0.41666666666666663,-0.83333333333333326,-1.25,-1.6666666666666665,-1.4583333333333333,-1.25,-1.0416666666666665,-0.83333333333333326,-0.625,-0.41666666666666663,-0.20833333333333331,0,null,null,null,null,10,5,0,-2.0100000000000229E-2,-3.5900000000000265E-2,-4.2950000000000266E-2,-3.7050000000000249E-2,-1.3749999999999929E-2,3.125E-2,0.10230000000000006,0.20369999999999999,0.33984999999999999,0.51505000000000001,0.23365,0,-0.183,-0.31829999999999997,-0.41015000000000001,-0.46295000000000003,-0.48105000000000003,-0.46875,-0.4304,-0.37034999999999996,-0.29295000000000004,-0.20254999999999998,-0.10345,0]
[null,11,5.5,0,4.1666666666666685E-2,8.3333333333333315E-2,0.125,0.16666666666666669,0.20833333333333331,0.25,0.29166666666666663,0.33333333333333337,0.375,0.41666666666666669,0.45833333333333331,0,null,null,null,null,11,5.5,0,4.1666666666666685E-2,8.3333333333333315E-2,0.125,0.16666666666666669,0.20833333333333331,0.25,0.29166666666666663,0.33333333333333337,0.375,0.41666666666666669,0.45833333333333331,0,-0.45833333333333331,-0.91666666666666663,-1.375,-1.8333333333333333,null,null,null,null,11,5.5,0,4.1666666666666685E-2,8.3333333333333315E-2,0.125,0.16666666666666669,0.20833333333333331,0.25,0.29166666666666663,0.33333333333333337,0.375,0.41666666666666669,0.45833333333333331,0,-0.45833333333333331,-0.91666666666666663,-1.375,-1.8333333333333333,-1.6041666666666665,-1.375,-1.1458333333333333,-0.91666666666666663,-0.6875,-0.45833333333333331,-0.22916666666666666,0,null,null,null,null,11,5.5,0,-7.211000000000034E-2,-0.13949000000000034,-0.19724500000000011,-0.24075500000000005,-0.26512499999999983,-0.265625,-0.23746999999999985,-0.17592999999999992,-7.6164999999999927E-2,6.6555000000000031E-2,0.25701499999999999,0,-0.20130000000000001,-0.35012999999999994,-0.45116500000000004,-0.50924500000000006,-0.52915500000000004,-0.515625,-0.47344000000000003,-0.407385,-0.322245,-0.22280499999999998,-0.11379500000000001,0]
[null,12,6,0,0,0,0,0,0,0,0,0,0,0,0,0,null,null,null,null,12,6,0,0,0,0,0,0,0,0,0,0,0,0,0,-0.5,-1,-1.5,-2,null,null,null,null,12,6,0,0,0,0,0,0,0,0,0,0,0,0,0,-0.5,-1,-1.5,-2,-1.75,-1.5,-1.25,-1,-0.75,-0.5,-0.25,0,null,null,null,null,12,6,0,{"$f":"BZ$36*($BX$30-$BX18)","v":-0.12414},{"$f":"CA$36*($BX$30-$BX18)","v":-0.24306},-0.35154000000000002,-0.44441999999999998,-0.51648000000000005,-0.5625,-0.57726,-0.55554000000000003,-0.49218000000000006,-0.38195999999999997,-0.21960000000000002,{"$f":"CK36*6","v":0},{"$f":"CL$34*$BX18","v":-0.21960000000000002},-0.38195999999999997,-0.49218000000000006,-0.55554000000000003,-0.57726,-0.5625,-0.51648000000000005,-0.44441999999999998,-0.35154000000000002,-0.24306,-0.12414,0]
[null,13,null,null,null,null,null,null,null,null,null,null,null,null,null,null,null,null,null,null,13,6.5,0,0,0,0,0,0,0,0,0,0,0,0,0,0,{"$f":"$Y$4*(-AK$5+$V19)","v":-0.5},{"$f":"$Y$4*(-AL$5+$V19)","v":-1},-1.5,null,null,null,null,13,6.5,0,0,0,0,0,0,0,0,0,0,0,0,0,0,{"$f":"$AV$4*(-BH$5+$V19)","v":-0.5},{"$f":"$AV$4*(-BI$5+$V19)","v":-1},-1.5,{"$f":"($BJ19*(4-(BK$5-8))/4)","v":-1.3125},{"$f":"($BJ19*(4-(BL$5-8))/4)","v":-1.125},-0.9375,-0.75,-0.5625,-0.375,-0.1875,0,null,null,null,null,13,6.5,0,{"$f":"BZ$36*($BX$30-$BX19)","v":-0.11379500000000001},-0.22280499999999998,-0.322245,-0.407385,-0.47344000000000003,-0.515625,-0.52915500000000004,-0.50924500000000006,-0.45116500000000004,-0.35012999999999994,-0.20130000000000001,0,{"$f":"CL$36*($BX$30-$BX19)","v":0.25701499999999999},{"$f":"CM$36*($BX$30-$BX19)-(CM$5-$BX19)*$CA$4","v":6.6555000000000031E-2},{"$f":"CN$36*($BX$30-$BX19)-(CN$5-$BX19)*$CA$4","v":-7.6164999999999927E-2},{"$f":"CO$36*($BX$30-$BX19)-(CO$5-$BX19)*$CA$4","v":-0.17592999999999992},{"$f":"CP$36*($BX$30-$BX19)-(CP$5-$BX19)*$CA$4","v":-0.23746999999999985},{"$f":"CQ$36*($BX$30-$BX19)-(CQ$5-$BX19)*$CA$4","v":-0.265625},-0.26512499999999983,-0.24075500000000005,-0.19724500000000011,-0.13949000000000034,-7.211000000000034E-2,0]
[null,14,null,null,null,null,null,null,null,null,null,null,null,null,null,null,null,null,null,null,14,7,0,0,0,0,0,0,0,0,0,0,0,0,0,0,0,-0.5,-1,null,null,null,null,14,7,0,0,0,0,0,0,0,0,0,0,0,0,0,0,0,-0.5,-1,{"$f":"($BJ20*(4-(BK$5-8))/4)","v":-0.875},-0.75,-0.625,-0.5,-0.375,-0.25,-0.125,0,null,null,null,null,14,7,0,-0.10345,-0.20254999999999998,-0.29295000000000004,-0.37034999999999996,-0.4304,-0.46875,-0.48105000000000003,-0.46295000000000003,-0.41015000000000001,-0.31829999999999997,-0.183,0,0.23365,0.51505000000000001,{"$f":"CN$36*($BX$30-$BX20)-(CN$5-$BX20)*$CA$4","v":0.33984999999999999},{"$f":"CO$36*($BX$30-$BX20)-(CO$5-$BX20)*$CA$4","v":0.20369999999999999},{"$f":"CP$36*($BX$30-$BX20)-(CP$5-$BX20)*$CA$4","v":0.10230000000000006},3.125E-2,-1.3749999999999929E-2,-3.7050000000000249E-2,-4.2950000000000266E-2,-3.5900000000000265E-2,-2.0100000000000229E-2,0]
[null,15,null,null,null,null,null,null,null,null,null,null,null,null,null,null,null,null,null,null,15,7.5,0,0,0,0,0,0,0,0,0,0,0,0,0,0,0,0,-0.5,null,null,null,null,15,7.5,0,0,0,0,0,0,0,0,0,0,0,0,0,0,0,0,-0.5,{"$f":"($BJ21*(4-(BK$5-8))/4)","v":-0.4375},-0.375,-0.3125,-0.25,-0.1875,-0.125,-6.25E-2,0,null,null,null,null,15,7.5,0,-9.3104999999999993E-2,-0.18229499999999998,-0.26365500000000003,-0.33331499999999997,-0.38736000000000004,-0.421875,-0.43294500000000002,-0.416655,-0.36913500000000005,-0.28647,-0.16470000000000001,0,0.210285,0.46354500000000004,0.75586500000000001,{"$f":"CO$36*($BX$30-$BX21)-(CO$5-$BX21)*$CA$4","v":0.58333000000000013},{"$f":"CP$36*($BX$30-$BX21)-(CP$5-$BX21)*$CA$4","v":0.44207000000000019},0.328125,0.23762499999999998,0.16665499999999955,0.11134500000000003,6.7689999999999806E-2,3.1909999999999883E-2,0]
[null,16,null,null,null,null,null,null,null,null,null,null,null,null,null,null,null,null,null,null,16,8,0,0,0,0,0,0,0,0,0,0,0,0,0,0,0,0,0,null,null,null,null,16,8,0,0,0,0,0,0,0,0,0,0,0,0,0,0,0,0,0,{"$f":"($BJ22*(4-(BK$5-8))/4)","v":0},0,0,0,0,0,0,0,null,null,null,null,16,8,0,-8.276E-2,-0.16203999999999999,-0.23436000000000001,-0.29627999999999999,-0.34432000000000001,-0.375,-0.38484000000000002,-0.37036000000000002,-0.32812000000000002,-0.25463999999999998,-0.1464,0,0.18692,0.41204000000000002,0.67188000000000003,0.96296000000000004,{"$f":"CP$36*($BX$30-$BX22)-(CP$5-$BX22)*$CA$4","v":0.78184000000000009},0.625,0.4890000000000001,0.3703599999999998,0.26563999999999988,0.17127999999999988,8.3919999999999995E-2,0]
[null,17,null,null,null,null,null,null,null,null,null,null,null,null,null,null,null,null,null,null,17,null,null,null,null,null,null,null,null,null,null,null,null,null,null,null,null,null,null,null,null,null,null,17,8.5,0,0,0,0,0,0,0,0,0,0,0,0,0,0,0,0,0,{"$f":"AV4*7/16","v":0.4375},{"$f":"AV4*0.75/2","v":0.375},{"$f":"AV4*5/8*0.5","v":0.3125},{"$f":"AV4*0.25","v":0.25},{"$f":"AV4*0.1875","v":0.1875},{"$f":"AV4*0.125","v":0.125},{"$f":"AV4*0.0625","v":6.25E-2},0,null,null,null,null,17,8.5,0,-7.2415000000000007E-2,-0.14178499999999999,-0.205065,-0.259245,-0.30127999999999999,-0.328125,-0.33673500000000001,-0.32406500000000005,-0.287105,-0.22280999999999998,-0.12809999999999999,0,0.16355500000000001,0.36053499999999999,0.58789500000000006,0.84259000000000006,1.12161,0.921875,0.74037500000000001,0.57406500000000005,0.41993499999999973,0.27486999999999995,0.13593000000000011,0]
[null,18,null,null,null,null,null,null,null,null,null,null,null,null,null,null,null,null,null,null,18,null,null,null,null,null,null,null,null,null,null,null,null,null,null,null,null,null,null,null,null,null,null,18,9,0,0,0,0,0,0,0,0,0,0,0,0,0,0,0,0,0,{"$f":"AV4*6/16","v":0.375},{"$f":"AV4*0.75","v":0.75},{"$f":"AV4*5/8","v":0.625},{"$f":"AV4*0.5","v":0.5},{"$f":"AV4*0.375","v":0.375},{"$f":"AV4*0.25","v":0.25},{"$f":"AV4*0.125","v":0.125},0,null,null,null,null,18,9,0,-6.207E-2,-0.12153,-0.17577000000000001,-0.22220999999999999,-0.25824000000000003,-0.28125,-0.28863,-0.27777000000000002,-0.24609000000000003,-0.19097999999999998,-0.10980000000000001,0,0.14019000000000001,0.30903000000000003,0.50391000000000008,0.72222000000000008,0.96138000000000012,1.21875,0.99175000000000013,0.77776999999999985,0.57423000000000002,0.37846000000000002,0.18794000000000022,0]
[null,19,null,null,null,null,null,null,null,null,null,null,null,null,null,null,null,null,null,null,19,null,null,null,null,null,null,null,null,null,null,null,null,null,null,null,null,null,null,null,null,null,null,19,9.5,0,0,0,0,0,0,0,0,0,0,0,0,0,0,0,0,0,{"$f":"AV4*5/16","v":0.3125},{"$f":"AV4*0.625","v":0.625},{"$f":"AV4*5/8*1.5","v":0.9375},{"$f":"AV4*0.75","v":0.75},{"$f":"AV4*0.5625","v":0.5625},{"$f":"AV4*0.375","v":0.375},{"$f":"AV4*0.1875","v":0.1875},0,null,null,null,null,19,9.5,0,-5.1725E-2,-0.10127499999999999,-0.14647500000000002,-0.18517499999999998,-0.2152,-0.234375,-0.24052500000000002,-0.23147500000000001,-0.20507500000000001,-0.15914999999999999,-9.1499999999999998E-2,0,0.116825,0.257525,0.41992499999999999,0.60185,0.80115000000000003,1.015625,1.243125,0.98147499999999988,0.72852499999999987,0.48204999999999987,0.23994999999999989,0]
[null,20,null,null,null,null,null,null,null,null,null,null,null,null,null,null,null,null,null,null,20,null,null,null,null,null,null,null,null,null,null,null,null,null,null,null,null,null,null,null,null,null,null,20,10,0,0,0,0,0,0,0,0,0,0,0,0,0,0,0,0,0,{"$f":"AV4*4/16","v":0.25},{"$f":"AV4*0.5","v":0.5},{"$f":"BM25*4/5","v":0.75},{"$f":"AV4","v":1},{"$f":"AV4*0.75","v":0.75},{"$f":"AV4*0.5","v":0.5},{"$f":"AV4*0.25","v":0.25},0,null,null,null,null,20,10,0,-4.138E-2,-8.1019999999999995E-2,-0.11718000000000001,-0.14813999999999999,-0.17216000000000001,-0.1875,-0.19242000000000001,-0.18518000000000001,-0.16406000000000001,-0.12731999999999999,-7.3200000000000001E-2,0,9.3460000000000001E-2,0.20602000000000001,0.33594000000000002,0.48148000000000002,0.64092000000000005,0.8125,0.99450000000000005,1.1851799999999999,0.88281999999999994,0.58563999999999994,0.29196,0]
[null,21,null,null,null,null,null,null,null,null,null,null,null,null,null,null,null,null,null,null,21,null,null,null,null,null,null,null,null,null,null,null,null,null,null,null,null,null,null,null,null,null,null,21,10.5,0,0,0,0,0,0,0,0,0,0,0,0,0,0,0,0,0,{"$f":"AV4*3/16","v":0.1875},{"$f":"AV4*0.375","v":0.375},{"$f":"AV4*0.75*0.75","v":0.5625},{"$f":"BN25","v":0.75},{"$f":"AV4*0.9375","v":0.9375},{"$f":"AV4*0.625","v":0.625},{"$f":"AV4*0.3125","v":0.3125},0,null,null,null,null,21,10.5,0,-3.1035E-2,-6.0765E-2,-8.7885000000000005E-2,-0.111105,-0.12912000000000001,-0.140625,-0.144315,-0.13888500000000001,-0.12304500000000002,-9.5489999999999992E-2,-5.4900000000000004E-2,0,7.0095000000000005E-2,0.15451500000000001,0.25195500000000004,0.36111000000000004,0.48069000000000006,0.609375,0.74587500000000007,0.88888499999999993,1.037115,0.68923000000000001,0.34397000000000011,0]
[null,22,null,null,null,null,null,null,null,null,null,null,null,null,null,null,null,null,null,null,22,null,null,null,null,null,null,null,null,null,null,null,null,null,null,null,null,null,null,null,null,null,null,22,11,0,0,0,0,0,0,0,0,0,0,0,0,0,0,0,0,0,{"$f":"AV4/8","v":0.125},{"$f":"AV4*0.25","v":0.25},{"$f":"AV4*0.75/2","v":0.375},{"$f":"BN24","v":0.5},{"$f":"BO27*2/3","v":0.625},{"$f":"AV4*0.75","v":0.75},{"$f":"AV4*0.375","v":0.375},0,null,null,null,null,22,11,0,-2.069E-2,-4.0509999999999997E-2,-5.8590000000000003E-2,-7.4069999999999997E-2,-8.6080000000000004E-2,-9.375E-2,-9.6210000000000004E-2,-9.2590000000000006E-2,-8.2030000000000006E-2,-6.3659999999999994E-2,-3.6600000000000001E-2,0,4.6730000000000001E-2,0.10301,0.16797000000000001,0.24074000000000001,0.32046000000000002,0.40625,0.49725000000000003,0.59258999999999995,0.69140999999999997,0.79281999999999997,0.39598,0]
[null,23,null,null,null,null,null,null,null,null,null,null,null,null,null,null,null,null,null,null,23,null,null,null,null,null,null,null,null,null,null,null,null,null,null,null,null,null,null,null,null,null,null,23,11.5,0,0,0,0,0,0,0,0,0,0,0,0,0,0,0,0,0,{"$f":"AV4/16","v":6.25E-2},{"$f":"AV4*0.125","v":0.125},{"$f":"AV4*0.75/4","v":0.1875},{"$f":"BN23","v":0.25},{"$f":"BO28/2","v":0.3125},{"$f":"BP28/2","v":0.375},{"$f":"AV4*0.4375","v":0.4375},0,null,null,null,null,23,11.5,0,-1.0345E-2,-2.0254999999999999E-2,-2.9295000000000002E-2,-3.7034999999999998E-2,-4.3040000000000002E-2,-4.6875E-2,-4.8105000000000002E-2,-4.6295000000000003E-2,-4.1015000000000003E-2,-3.1829999999999997E-2,-1.83E-2,0,2.3365E-2,5.1505000000000002E-2,8.3985000000000004E-2,0.12037,0.16023000000000001,0.203125,0.24862500000000001,0.29629499999999998,0.34570499999999998,0.39640999999999998,0.44799,0]
[null,24,null,null,null,null,null,null,null,null,null,null,null,null,null,null,null,null,null,null,24,null,null,null,null,null,null,null,null,null,null,null,null,null,null,null,null,null,null,null,null,null,null,24,12,0,0,0,0,0,0,0,0,0,0,0,0,0,0,0,0,0,0,0,0,0,0,0,0,0,null,null,null,null,24,12,0,0,0,0,0,0,0,0,0,0,0,0,0,{"$f":"CL$36*($BX$30-$BX30)","v":0},0,0,0,0,0,0,0,0,0,0,0]
[]
[null,"Auflagerreaktionen",null,null,"F =",{"$f":"'GD1'!$F$12","v":1},null,null,null,null,null,null,null,null,null,null,null,null,null,null,"Auflagerreaktionen",null,null,"F =",{"$f":"'GD1'!$F$12","v":1},null,null,null,null,null,null,null,null,null,null,null,null,null,null,null,null,null,null,"Auflagerreaktionen",null,null,"F =",{"$f":"'GD1'!$F$12","v":1},null,null,null,null,null,null,null,null,null,null,null,null,null,null,null,null,null,null,null,null,null,null,null,null,null,null,"Auflagerreaktionen",null,null,"F =",{"$f":"'GD1'!$F$12","v":1}]
[null,"Schn.","a",0,0.5,1,1.5,2,2.5,3,3.5,4,4.5,5,5.5,6,null,null,null,null,"Schn.","a",0,0.5,1,1.5,2,2.5,3,3.5,4,4.5,5,5.5,6,6.5,7,7.5,8,null,null,null,null,"Schn.","a",0,0.5,1,1.5,2,2.5,3,3.5,4,4.5,5,5.5,6,6.5,7,7.5,8,8.5,9,9.5,10,10.5,11,11.5,12,null,null,null,null,"Schn.","a",0,0.5,1,1.5,2,2.5,3,3.5,4,4.5,5,5.5,6,6.5,7,7.5,8,8.5,9,9.5,10,10.5,11,11.5,12]
[null,0,0,{"$f":"$F$32*(6-D33)/6","v":1},{"$f":"$F$32*(6-E33)/6","v":0.91666666666666663},0.83333333333333337,0.75,0.66666666666666663,0.58333333333333337,0.5,{"$f":"$F$32*(6-K33)/6","v":0.41666666666666669},0.33333333333333331,0.25,0.16666666666666666,8.3333333333333329E-2,0,null,null,null,null,0,0,{"$f":"$Y$32*(6-W33)/6","v":1},{"$f":"$Y$32*(6-X33)/6","v":0.91666666666666663},0.83333333333333337,0.75,0.66666666666666663,0.58333333333333337,0.5,{"$f":"$Y$32*(6-AD33)/6","v":0.41666666666666669},0.33333333333333331,0.25,0.16666666666666666,8.3333333333333329E-2,0,-8.3333333333333329E-2,-0.16666666666666666,-0.25,-0.33333333333333331,null,null,null,null,0,0,{"$f":"$AV$32*(6-AT33)/6","v":1},{"$f":"$AV$32*(6-AU33)/6","v":0.91666666666666663},0.83333333333333337,0.75,0.66666666666666663,0.58333333333333337,0.5,0.41666666666666669,{"$f":"$AV$32*(6-BB33)/6","v":0.33333333333333331},0.25,0.16666666666666666,8.3333333333333329E-2,0,-8.3333333333333329E-2,-0.16666666666666666,-0.25,-0.33333333333333331,{"$f":"$BJ34*(4-(BK$5-8))/4","v":-0.29166666666666663},-0.25,-0.20833333333333331,-0.16666666666666666,-0.125,-8.3333333333333329E-2,-4.1666666666666664E-2,0,null,null,null,null,0,0,{"$f":"CA32","v":1},{"$f":"CA32*0.89598","v":0.89598},{"$f":"CA32*0.79282","v":0.79281999999999997},{"$f":"CA32*0.69141","v":0.69140999999999997},{"$f":"CA32*0.59259","v":0.59258999999999995},{"$f":"CA32*0.49725","v":0.49725000000000003},{"$f":"CA32*0.40625","v":0.40625},{"$f":"CA32*0.32046","v":0.32046000000000002},{"$f":"CA32*0.24074","v":0.24074000000000001},{"$f":"CA32*0.16797","v":0.16797000000000001},{"$f":"CA32*0.10301","v":0.10301},{"$f":"CA32*0.04673","v":4.6730000000000001E-2},0,{"$f":"CJ36","v":-3.6600000000000001E-2},{"$f":"CI36","v":-6.3659999999999994E-2},{"$f":"CH36","v":-8.2030000000000006E-2},{"$f":"CG36","v":-9.2590000000000006E-2},{"$f":"CF36","v":-9.6210000000000004E-2},{"$f":"CE36","v":-9.375E-2},{"$f":"CD36","v":-8.6080000000000004E-2},{"$f":"CC36","v":-7.4069999999999997E-2},{"$f":"CB36","v":-5.8590000000000003E-2},{"$f":"CA36","v":-4.0509999999999997E-2},{"$f":"BZ36","v":-2.069E-2},0]
[null,12,6,{"$f":"$F$32*(1-(6-D33)/6)","v":0},{"$f":"$F$32*(1-(6-E33)/6)","v":8.333333333333337E-2},0.16666666666666663,0.25,0.33333333333333337,0.41666666666666663,0.5,0.58333333333333326,0.66666666666666674,0.75,0.83333333333333337,0.91666666666666663,1,null,null,null,null,12,6,{"$f":"$Y$32*(1-(6-W33)/6)","v":0},{"$f":"$Y$32*(1-(6-X33)/6)","v":8.333333333333337E-2},0.16666666666666663,0.25,0.33333333333333337,0.41666666666666663,0.5,0.58333333333333326,0.66666666666666674,0.75,0.83333333333333337,0.91666666666666663,1,1.0833333333333333,1.1666666666666667,1.25,1.3333333333333333,null,null,null,null,12,6,{"$f":"$AV$32*(1-(6-AT33)/6)","v":0},{"$f":"$AV$32*(1-(6-AU33)/6)","v":8.333333333333337E-2},0.16666666666666663,0.25,0.33333333333333337,0.41666666666666663,0.5,0.58333333333333326,0.66666666666666674,0.75,0.83333333333333337,0.91666666666666663,1,{"$f":"$AV$32*(1-(6-BG33)/6)","v":1.0833333333333333},{"$f":"$AV$32*(1-(6-BH33)/6)","v":1.1666666666666667},{"$f":"$AV$32*(1-(6-BI33)/6)","v":1.25},{"$f":"$AV$32*(1-(6-BJ33)/6)","v":1.3333333333333333},1.1666666666666665,1,0.83333333333333326,0.66666666666666663,0.5,0.33333333333333331,0.16666666666666666,0,null,null,null,null,12,6,0,{"$f":"CA32*0.12471","v":0.12471},{"$f":"CA32*0.24769","v":0.24768999999999999},{"$f":"CA32*0.36719","v":0.36719000000000002},{"$f":"CA32*0.48148","v":0.48148000000000002},{"$f":"CA32*0.58883","v":0.58882999999999996},{"$f":"CA32*0.6875","v":0.6875},{"$f":"CA32*0.77575","v":0.77575000000000005},{"$f":"CA32*0.85185","v":0.85185},{"$f":"CA32*0.91406","v":0.91405999999999998},{"$f":"CA32*0.96065","v":0.96065},{"$f":"CA32*0.98987","v":0.98987000000000003},{"$f":"CA32","v":1},{"$f":"CJ35","v":0.98987000000000003},{"$f":"CI35","v":0.96065},{"$f":"CH35","v":0.91405999999999998},{"$f":"CG35","v":0.85185},{"$f":"CF35","v":0.77575000000000005},{"$f":"CE35","v":0.6875},{"$f":"CD35","v":0.58882999999999996},{"$f":"CC35","v":0.48148000000000002},{"$f":"CB35","v":0.36719000000000002},{"$f":"CA35","v":0.24768999999999999},{"$f":"BZ35","v":0.12471},0]
[null,24,null,null,null,null,null,null,null,null,null,null,null,null,null,null,null,null,null,null,24,null,null,null,null,null,null,null,null,null,null,null,null,null,null,null,null,null,null,null,null,null,null,24,120,0,0,0,0,0,0,0,0,0,0,0,0,0,0,0,0,0,{"$f":"$AV$32-BK35-BK34","v":0.12500000000000011},{"$f":"$AV$32-BL35-BL34","v":0.25},0.37500000000000006,0.5,0.625,0.75000000000000011,0.875,1,null,null,null,null,24,12,0,{"$f":"CA32*-0.02069","v":-2.069E-2},{"$f":"CA32*-0.04051","v":-4.0509999999999997E-2},{"$f":"CA32*-0.05859","v":-5.8590000000000003E-2},{"$f":"CA32*-0.07407","v":-7.4069999999999997E-2},{"$f":"CA32*-0.08608","v":-8.6080000000000004E-2},{"$f":"CA32*-0.09375","v":-9.375E-2},{"$f":"CA32*-0.09621","v":-9.6210000000000004E-2},{"$f":"CA32*-0.09259","v":-9.2590000000000006E-2},{"$f":"CA32*-0.08203","v":-8.2030000000000006E-2},{"$f":"CA32*-0.06366","v":-6.3659999999999994E-2},{"$f":"CA32*-0.0366","v":-3.6600000000000001E-2},0,{"$f":"CJ34","v":4.6730000000000001E-2},{"$f":"CI34","v":0.10301},{"$f":"CH34","v":0.16797000000000001},{"$f":"CG34","v":0.24074000000000001},{"$f":"CF34","v":0.32046000000000002},{"$f":"CE34","v":0.40625},{"$f":"CD34","v":0.49725000000000003},{"$f":"CC34","v":0.59258999999999995},{"$f":"CB34","v":0.69140999999999997},{"$f":"CA34","v":0.79281999999999997},{"$f":"BZ34","v":0.89598},{"$f":"CA32","v":1}]
[]
[null,"Querkräfte",null,null,"F =",{"$f":"'GD1'!$F$12","v":1},null,null,null,null,null,null,null,null,null,null,{"$f":"1/10000","v":1E-4},null,null,null,"Querkräfte",null,null,"F =",{"$f":"'GD1'!$F$12","v":1},null,null,null,null,null,null,null,null,null,null,null,null,null,null,{"$f":"1/10000","v":1E-4},null,null,null,"Querkräfte",null,null,"F =",{"$f":"'GD1'!$F$12","v":1},null,null,null,null,null,null,null,null,null,null,null,null,null,null,null,null,null,null,null,null,null,null,null,null,null,null,"Querkräfte",null,null,"F =",{"$f":"'GD1'!$F$12","v":1}]
[null,"Schn.","a",0,0.5,1,1.5,2,2.5,3,3.5,4,4.5,5,5.5,6,"a+da",null,null,null,"Schn.","a",0,0.5,1,1.5,2,2.5,3,3.5,4,4.5,5,5.5,6,6.5,7,7.5,8,"a+da",null,null,null,"Schn.","a",0,0.5,1,1.5,2,2.5,3,3.5,4,4.5,5,5.5,6,6.5,7,7.5,8,8.5,9,9.5,10,10.5,11,11.5,12,null,null,null,null,"Schn.","a",0,0.5,1,1.5,2,2.5,3,3.5,4,4.5,5,5.5,6,6.5,7,7.5,8,8.5,9,9.5,10,10.5,11,11.5,12]
[null,"0-r",0,{"$f":"IF(D$39<$Q40,-D$35,D$34)","v":0},0.91666666666666663,0.83333333333333337,0.75,0.66666666666666663,0.58333333333333337,0.5,0.41666666666666669,0.33333333333333331,0.25,0.16666666666666666,8.3333333333333329E-2,0,{"$f":"Q38","v":1E-4},null,null,null,"0-r",0,{"$f":"IF(W$39<$AN40,-W$35,W$34)","v":0},0.91666666666666663,0.83333333333333337,0.75,0.66666666666666663,0.58333333333333337,0.5,0.41666666666666669,0.33333333333333331,0.25,0.16666666666666666,8.3333333333333329E-2,0,{"$f":"AJ$34","v":-8.3333333333333329E-2},-0.16666666666666666,-0.25,-0.33333333333333331,{"$f":"AN38","v":1E-4},null,null,null,"0-r",0,{"$f":"IF(AT$39<$AN40,-AT$35,AT$34)","v":0},0.91666666666666663,0.83333333333333337,0.75,0.66666666666666663,0.58333333333333337,0.5,0.41666666666666669,0.33333333333333331,0.25,0.16666666666666666,8.3333333333333329E-2,0,{"$f":"BG$34","v":-8.3333333333333329E-2},-0.16666666666666666,-0.25,-0.33333333333333331,{"$f":"BK$34","v":-0.29166666666666663},{"$f":"BL$34","v":-0.25},-0.20833333333333331,-0.16666666666666666,-0.125,-8.3333333333333329E-2,-4.1666666666666664E-2,0,null,null,null,null,"0-r",0,0,{"$f":"BZ$34","v":0.89598},{"$f":"CA$34","v":0.79281999999999997},{"$f":"CB$34","v":0.69140999999999997},0.59258999999999995,0.49725000000000003,0.40625,0.32046000000000002,0.24074000000000001,0.16797000000000001,0.10301,4.6730000000000001E-2,0,{"$f":"CL$34","v":-3.6600000000000001E-2},-6.3659999999999994E-2,-8.2030000000000006E-2,-9.2590000000000006E-2,-9.6210000000000004E-2,-9.375E-2,-8.6080000000000004E-2,-7.4069999999999997E-2,-5.8590000000000003E-2,-4.0509999999999997E-2,-2.069E-2,0]
[null,"1-l",0.5,0,0.91666666666666663,0.83333333333333337,0.75,0.66666666666666663,0.58333333333333337,0.5,0.41666666666666669,0.33333333333333331,0.25,0.16666666666666666,8.3333333333333329E-2,0,{"$f":"C41-$Q$38","v":0.49990000000000001},null,null,null,"1-l",0.5,0,0.91666666666666663,0.83333333333333337,0.75,0.66666666666666663,0.58333333333333337,0.5,0.41666666666666669,0.33333333333333331,0.25,0.16666666666666666,8.3333333333333329E-2,0,-8.3333333333333329E-2,-0.16666666666666666,-0.25,-0.33333333333333331,{"$f":"V41-$Q$38","v":0.49990000000000001},null,null,null,"1-l",0.5,0,0.91666666666666663,0.83333333333333337,0.75,0.66666666666666663,0.58333333333333337,0.5,0.41666666666666669,0.33333333333333331,0.25,0.16666666666666666,8.3333333333333329E-2,0,-8.3333333333333329E-2,-0.16666666666666666,-0.25,-0.33333333333333331,-0.29166666666666663,-0.25,-0.20833333333333331,-0.16666666666666666,-0.125,-8.3333333333333329E-2,-4.1666666666666664E-2,0,null,null,null,null,"1-l",0.5,0,{"$f":"BZ$34","v":0.89598},{"$f":"CA$34","v":0.79281999999999997},0.69140999999999997,0.59258999999999995,0.49725000000000003,0.40625,0.32046000000000002,0.24074000000000001,0.16797000000000001,0.10301,4.6730000000000001E-2,0,-3.6600000000000001E-2,-6.3659999999999994E-2,-8.2030000000000006E-2,-9.2590000000000006E-2,-9.6210000000000004E-2,-9.375E-2,-8.6080000000000004E-2,-7.4069999999999997E-2,-5.8590000000000003E-2,-4.0509999999999997E-2,-2.069E-2,0]
[null,"1-r",0.5,0,-8.333333333333337E-2,0.83333333333333337,0.75,0.66666666666666663,0.58333333333333337,0.5,0.41666666666666669,0.33333333333333331,0.25,0.16666666666666666,8.3333333333333329E-2,0,{"$f":"C42+$Q$38","v":0.50009999999999999},null,null,null,"1-r",0.5,0,-8.333333333333337E-2,0.83333333333333337,0.75,0.66666666666666663,0.58333333333333337,0.5,0.41666666666666669,0.33333333333333331,0.25,0.16666666666666666,8.3333333333333329E-2,0,-8.3333333333333329E-2,-0.16666666666666666,-0.25,-0.33333333333333331,{"$f":"V42+$Q$38","v":0.50009999999999999},null,null,null,"1-r",0.5,0,-8.333333333333337E-2,0.83333333333333337,0.75,0.66666666666666663,0.58333333333333337,0.5,0.41666666666666669,0.33333333333333331,0.25,0.16666666666666666,8.3333333333333329E-2,0,-8.3333333333333329E-2,-0.16666666666666666,-0.25,-0.33333333333333331,-0.29166666666666663,-0.25,-0.20833333333333331,-0.16666666666666666,-0.125,-8.3333333333333329E-2,-4.1666666666666664E-2,0,null,null,null,null,"1-r",0.5,0,{"$f":"BZ$34-$CA$38","v":-0.10402},{"$f":"CA$34","v":0.79281999999999997},0.69140999999999997,0.59258999999999995,0.49725000000000003,0.40625,0.32046000000000002,0.24074000000000001,0.16797000000000001,0.10301,4.6730000000000001E-2,0,-3.6600000000000001E-2,-6.3659999999999994E-2,-8.2030000000000006E-2,-9.2590000000000006E-2,-9.6210000000000004E-2,-9.375E-2,-8.6080000000000004E-2,-7.4069999999999997E-2,-5.8590000000000003E-2,-4.0509999999999997E-2,-2.069E-2,0]
[null,"2-l",1,0,-8.333333333333337E-2,0.83333333333333337,0.75,0.66666666666666663,0.58333333333333337,0.5,0.41666666666666669,0.33333333333333331,0.25,0.16666666666666666,8.3333333333333329E-2,0,{"$f":"C43-$Q$38","v":0.99990000000000001},null,null,null,"2-l",1,0,-8.333333333333337E-2,0.83333333333333337,0.75,0.66666666666666663,0.58333333333333337,0.5,0.41666666666666669,0.33333333333333331,0.25,0.16666666666666666,8.3333333333333329E-2,0,-8.3333333333333329E-2,-0.16666666666666666,-0.25,-0.33333333333333331,{"$f":"V43-$Q$38","v":0.99990000000000001},null,null,null,"2-l",1,0,-8.333333333333337E-2,0.83333333333333337,0.75,0.66666666666666663,0.58333333333333337,0.5,0.41666666666666669,0.33333333333333331,0.25,0.16666666666666666,8.3333333333333329E-2,0,-8.3333333333333329E-2,-0.16666666666666666,-0.25,-0.33333333333333331,-0.29166666666666663,-0.25,-0.20833333333333331,-0.16666666666666666,-0.125,-8.3333333333333329E-2,-4.1666666666666664E-2,0,null,null,null,null,"2-l",1,0,{"$f":"BZ$34-$CA$38","v":-0.10402},{"$f":"CA$34","v":0.79281999999999997},0.69140999999999997,0.59258999999999995,0.49725000000000003,0.40625,0.32046000000000002,0.24074000000000001,0.16797000000000001,0.10301,4.6730000000000001E-2,0,-3.6600000000000001E-2,-6.3659999999999994E-2,-8.2030000000000006E-2,-9.2590000000000006E-2,-9.6210000000000004E-2,-9.375E-2,-8.6080000000000004E-2,-7.4069999999999997E-2,-5.8590000000000003E-2,-4.0509999999999997E-2,-2.069E-2,0]
[null,"2-r",1,0,-8.333333333333337E-2,-0.16666666666666663,0.75,0.66666666666666663,0.58333333333333337,0.5,0.41666666666666669,0.33333333333333331,0.25,0.16666666666666666,8.3333333333333329E-2,0,{"$f":"C44+$Q$38","v":1.0001},null,null,null,"2-r",1,0,-8.333333333333337E-2,-0.16666666666666663,0.75,0.66666666666666663,0.58333333333333337,0.5,0.41666666666666669,0.33333333333333331,0.25,0.16666666666666666,8.3333333333333329E-2,0,-8.3333333333333329E-2,-0.16666666666666666,-0.25,-0.33333333333333331,{"$f":"V44+$Q$38","v":1.0001},null,null,null,"2-r",1,0,-8.333333333333337E-2,-0.16666666666666663,0.75,0.66666666666666663,0.58333333333333337,0.5,0.41666666666666669,0.33333333333333331,0.25,0.16666666666666666,8.3333333333333329E-2,0,-8.3333333333333329E-2,-0.16666666666666666,-0.25,-0.33333333333333331,-0.29166666666666663,-0.25,-0.20833333333333331,-0.16666666666666666,-0.125,-8.3333333333333329E-2,-4.1666666666666664E-2,0,null,null,null,null,"2-r",1,0,-0.10402,{"$f":"CA$34-$CA$38","v":-0.20718000000000003},0.69140999999999997,0.59258999999999995,0.49725000000000003,0.40625,0.32046000000000002,0.24074000000000001,0.16797000000000001,0.10301,4.6730000000000001E-2,0,-3.6600000000000001E-2,-6.3659999999999994E-2,-8.2030000000000006E-2,-9.2590000000000006E-2,-9.6210000000000004E-2,-9.375E-2,-8.6080000000000004E-2,-7.4069999999999997E-2,-5.8590000000000003E-2,-4.0509999999999997E-2,-2.069E-2,0]
[null,"3-l",1.5,0,-8.333333333333337E-2,-0.16666666666666663,0.75,0.66666666666666663,0.58333333333333337,0.5,0.41666666666666669,0.33333333333333331,0.25,0.16666666666666666,8.3333333333333329E-2,0,{"$f":"C45-$Q$38","v":1.4999},null,null,null,"3-l",1.5,0,-8.333333333333337E-2,-0.16666666666666663,0.75,0.66666666666666663,0.58333333333333337,0.5,0.41666666666666669,0.33333333333333331,0.25,0.16666666666666666,8.3333333333333329E-2,0,-8.3333333333333329E-2,-0.16666666666666666,-0.25,-0.33333333333333331,{"$f":"V45-$Q$38","v":1.4999},null,null,null,"3-l",1.5,0,-8.333333333333337E-2,-0.16666666666666663,0.75,0.66666666666666663,0.58333333333333337,0.5,0.41666666666666669,0.33333333333333331,0.25,0.16666666666666666,8.3333333333333329E-2,0,-8.3333333333333329E-2,-0.16666666666666666,-0.25,-0.33333333333333331,-0.29166666666666663,-0.25,-0.20833333333333331,-0.16666666666666666,-0.125,-8.3333333333333329E-2,-4.1666666666666664E-2,0,null,null,null,null,"3-l",1.5,0,-0.10402,-0.20718000000000003,0.69140999999999997,0.59258999999999995,0.49725000000000003,0.40625,0.32046000000000002,0.24074000000000001,0.16797000000000001,0.10301,4.6730000000000001E-2,0,-3.6600000000000001E-2,-6.3659999999999994E-2,-8.2030000000000006E-2,-9.2590000000000006E-2,-9.6210000000000004E-2,-9.375E-2,-8.6080000000000004E-2,-7.4069999999999997E-2,-5.8590000000000003E-2,-4.0509999999999997E-2,-2.069E-2,0]
[null,"3-r",1.5,0,-8.333333333333337E-2,-0.16666666666666663,-0.25,0.66666666666666663,0.58333333333333337,0.5,0.41666666666666669,0.33333333333333331,0.25,0.16666666666666666,8.3333333333333329E-2,0,{"$f":"C46+$Q$38","v":1.5001},null,null,null,"3-r",1.5,0,-8.333333333333337E-2,-0.16666666666666663,-0.25,0.66666666666666663,0.58333333333333337,0.5,0.41666666666666669,0.33333333333333331,0.25,0.16666666666666666,8.3333333333333329E-2,0,-8.3333333333333329E-2,-0.16666666666666666,-0.25,-0.33333333333333331,{"$f":"V46+$Q$38","v":1.5001},null,null,null,"3-r",1.5,0,-8.333333333333337E-2,-0.16666666666666663,-0.25,0.66666666666666663,0.58333333333333337,0.5,0.41666666666666669,0.33333333333333331,0.25,0.16666666666666666,8.3333333333333329E-2,0,-8.3333333333333329E-2,-0.16666666666666666,-0.25,-0.33333333333333331,-0.29166666666666663,-0.25,-0.20833333333333331,-0.16666666666666666,-0.125,-8.3333333333333329E-2,-4.1666666666666664E-2,0,null,null,null,null,"3-r",1.5,0,-0.10402,-0.20718000000000003,{"$f":"CB$34-$CA$38","v":-0.30859000000000003},0.59258999999999995,0.49725000000000003,0.40625,0.32046000000000002,0.24074000000000001,0.16797000000000001,0.10301,4.6730000000000001E-2,0,-3.6600000000000001E-2,-6.3659999999999994E-2,-8.2030000000000006E-2,-9.2590000000000006E-2,-9.6210000000000004E-2,-9.375E-2,-8.6080000000000004E-2,-7.4069999999999997E-2,-5.8590000000000003E-2,-4.0509999999999997E-2,-2.069E-2,0]
[null,"4-l",2,0,-8.333333333333337E-2,-0.16666666666666663,-0.25,0.66666666666666663,0.58333333333333337,0.5,0.41666666666666669,0.33333333333333331,0.25,0.16666666666666666,8.3333333333333329E-2,0,{"$f":"C47-$Q$38","v":1.9999},null,null,null,"4-l",2,0,-8.333333333333337E-2,-0.16666666666666663,-0.25,0.66666666666666663,0.58333333333333337,0.5,0.41666666666666669,0.33333333333333331,0.25,0.16666666666666666,8.3333333333333329E-2,0,-8.3333333333333329E-2,-0.16666666666666666,-0.25,-0.33333333333333331,{"$f":"V47-$Q$38","v":1.9999},null,null,null,"4-l",2,0,-8.333333333333337E-2,-0.16666666666666663,-0.25,0.66666666666666663,0.58333333333333337,0.5,0.41666666666666669,0.33333333333333331,0.25,0.16666666666666666,8.3333333333333329E-2,0,-8.3333333333333329E-2,-0.16666666666666666,-0.25,-0.33333333333333331,-0.29166666666666663,-0.25,-0.20833333333333331,-0.16666666666666666,-0.125,-8.3333333333333329E-2,-4.1666666666666664E-2,0,null,null,null,null,"4-l",2,0,-0.10402,-0.20718000000000003,-0.30859000000000003,0.59258999999999995,0.49725000000000003,0.40625,0.32046000000000002,0.24074000000000001,0.16797000000000001,0.10301,4.6730000000000001E-2,0,-3.6600000000000001E-2,-6.3659999999999994E-2,-8.2030000000000006E-2,-9.2590000000000006E-2,-9.6210000000000004E-2,-9.375E-2,-8.6080000000000004E-2,-7.4069999999999997E-2,-5.8590000000000003E-2,-4.0509999999999997E-2,-2.069E-2,0]
[null,"4-r",2,0,-8.333333333333337E-2,-0.16666666666666663,-0.25,-0.33333333333333337,0.58333333333333337,0.5,0.41666666666666669,0.33333333333333331,0.25,0.16666666666666666,8.3333333333333329E-2,0,{"$f":"C48+$Q$38","v":2.0001000000000002},null,null,null,"4-r",2,0,-8.333333333333337E-2,-0.16666666666666663,-0.25,-0.33333333333333337,0.58333333333333337,0.5,0.41666666666666669,0.33333333333333331,0.25,0.16666666666666666,8.3333333333333329E-2,0,-8.3333333333333329E-2,-0.16666666666666666,-0.25,-0.33333333333333331,{"$f":"V48+$Q$38","v":2.0001000000000002},null,null,null,"4-r",2,0,-8.333333333333337E-2,-0.16666666666666663,-0.25,-0.33333333333333337,0.58333333333333337,0.5,0.41666666666666669,0.33333333333333331,0.25,0.16666666666666666,8.3333333333333329E-2,0,-8.3333333333333329E-2,-0.16666666666666666,-0.25,-0.33333333333333331,-0.29166666666666663,-0.25,-0.20833333333333331,-0.16666666666666666,-0.125,-8.3333333333333329E-2,-4.1666666666666664E-2,0,null,null,null,null,"4-r",2,0,-0.10402,-0.20718000000000003,-0.30859000000000003,{"$f":"CC$34-$CA$38","v":-0.40741000000000005},0.49725000000000003,0.40625,0.32046000000000002,0.24074000000000001,0.16797000000000001,0.10301,4.6730000000000001E-2,0,-3.6600000000000001E-2,-6.3659999999999994E-2,-8.2030000000000006E-2,-9.2590000000000006E-2,-9.6210000000000004E-2,-9.375E-2,-8.6080000000000004E-2,-7.4069999999999997E-2,-5.8590000000000003E-2,-4.0509999999999997E-2,-2.069E-2,0]
[null,"5-l",2.5,0,-8.333333333333337E-2,-0.16666666666666663,-0.25,-0.33333333333333337,0.58333333333333337,0.5,0.41666666666666669,0.33333333333333331,0.25,0.16666666666666666,8.3333333333333329E-2,0,{"$f":"C49-$Q$38","v":2.4998999999999998},null,null,null,"5-l",2.5,0,-8.333333333333337E-2,-0.16666666666666663,-0.25,-0.33333333333333337,0.58333333333333337,0.5,0.41666666666666669,0.33333333333333331,0.25,0.16666666666666666,8.3333333333333329E-2,0,-8.3333333333333329E-2,-0.16666666666666666,-0.25,-0.33333333333333331,{"$f":"V49-$Q$38","v":2.4998999999999998},null,null,null,"5-l",2.5,0,-8.333333333333337E-2,-0.16666666666666663,-0.25,-0.33333333333333337,0.58333333333333337,0.5,0.41666666666666669,0.33333333333333331,0.25,0.16666666666666666,8.3333333333333329E-2,0,-8.3333333333333329E-2,-0.16666666666666666,-0.25,-0.33333333333333331,-0.29166666666666663,-0.25,-0.20833333333333331,-0.16666666666666666,-0.125,-8.3333333333333329E-2,-4.1666666666666664E-2,0,null,null,null,null,"5-l",2.5,0,-0.10402,-0.20718000000000003,-0.30859000000000003,-0.40741000000000005,0.49725000000000003,0.40625,0.32046000000000002,0.24074000000000001,0.16797000000000001,0.10301,4.6730000000000001E-2,0,-3.6600000000000001E-2,-6.3659999999999994E-2,-8.2030000000000006E-2,-9.2590000000000006E-2,-9.6210000000000004E-2,-9.375E-2,-8.6080000000000004E-2,-7.4069999999999997E-2,-5.8590000000000003E-2,-4.0509999999999997E-2,-2.069E-2,0]
[null,"5-r",2.5,{"$f":"IF(D$39<$Q50,-D$35,D$34)","v":0},-8.333333333333337E-2,-0.16666666666666663,-0.25,-0.33333333333333337,-0.41666666666666663,0.5,0.41666666666666669,0.33333333333333331,0.25,0.16666666666666666,8.3333333333333329E-2,0,{"$f":"C50+$Q$38","v":2.5001000000000002},null,null,null,"5-r",2.5,{"$f":"IF(W$39<$AN50,-W$35,W$34)","v":0},-8.333333333333337E-2,-0.16666666666666663,-0.25,-0.33333333333333337,-0.41666666666666663,0.5,0.41666666666666669,0.33333333333333331,0.25,0.16666666666666666,8.3333333333333329E-2,0,-8.3333333333333329E-2,-0.16666666666666666,-0.25,-0.33333333333333331,{"$f":"V50+$Q$38","v":2.5001000000000002},null,null,null,"5-r",2.5,{"$f":"IF(AT$39<$AN50,-AT$35,AT$34)","v":0},-8.333333333333337E-2,-0.16666666666666663,-0.25,-0.33333333333333337,-0.41666666666666663,0.5,0.41666666666666669,0.33333333333333331,0.25,0.16666666666666666,8.3333333333333329E-2,0,-8.3333333333333329E-2,-0.16666666666666666,-0.25,-0.33333333333333331,-0.29166666666666663,-0.25,-0.20833333333333331,-0.16666666666666666,-0.125,-8.3333333333333329E-2,-4.1666666666666664E-2,0,null,null,null,null,"5-r",2.5,0,-0.10402,-0.20718000000000003,-0.30859000000000003,-0.40741000000000005,{"$f":"CD$34-$CA$38","v":-0.50275000000000003},0.40625,0.32046000000000002,0.24074000000000001,0.16797000000000001,0.10301,4.6730000000000001E-2,0,-3.6600000000000001E-2,-6.3659999999999994E-2,-8.2030000000000006E-2,-9.2590000000000006E-2,-9.6210000000000004E-2,-9.375E-2,-8.6080000000000004E-2,-7.4069999999999997E-2,-5.8590000000000003E-2,-4.0509999999999997E-2,-2.069E-2,0]
[null,"6-l",3,0,-8.333333333333337E-2,-0.16666666666666663,-0.25,-0.33333333333333337,-0.41666666666666663,0.5,0.41666666666666669,0.33333333333333331,0.25,0.16666666666666666,8.3333333333333329E-2,0,{"$f":"C51-$Q$38","v":2.9998999999999998},null,null,null,"6-l",3,0,-8.333333333333337E-2,-0.16666666666666663,-0.25,-0.33333333333333337,-0.41666666666666663,0.5,0.41666666666666669,0.33333333333333331,0.25,0.16666666666666666,8.3333333333333329E-2,0,-8.3333333333333329E-2,-0.16666666666666666,-0.25,-0.33333333333333331,{"$f":"V51-$Q$38","v":2.9998999999999998},null,null,null,"6-l",3,0,-8.333333333333337E-2,-0.16666666666666663,-0.25,-0.33333333333333337,-0.41666666666666663,0.5,0.41666666666666669,0.33333333333333331,0.25,0.16666666666666666,8.3333333333333329E-2,0,-8.3333333333333329E-2,-0.16666666666666666,-0.25,-0.33333333333333331,-0.29166666666666663,-0.25,-0.20833333333333331,-0.16666666666666666,-0.125,-8.3333333333333329E-2,-4.1666666666666664E-2,0,null,null,null,null,"6-l",3,0,-0.10402,-0.20718000000000003,-0.30859000000000003,-0.40741000000000005,-0.50275000000000003,0.40625,0.32046000000000002,0.24074000000000001,0.16797000000000001,0.10301,4.6730000000000001E-2,0,-3.6600000000000001E-2,-6.3659999999999994E-2,-8.2030000000000006E-2,-9.2590000000000006E-2,-9.6210000000000004E-2,-9.375E-2,-8.6080000000000004E-2,-7.4069999999999997E-2,-5.8590000000000003E-2,-4.0509999999999997E-2,-2.069E-2,0]
[null,"6-r",3,0,-8.333333333333337E-2,-0.16666666666666663,-0.25,-0.33333333333333337,-0.41666666666666663,-0.5,0.41666666666666669,0.33333333333333331,0.25,0.16666666666666666,8.3333333333333329E-2,0,{"$f":"C52+$Q$38","v":3.0001000000000002},null,null,null,"6-r",3,0,-8.333333333333337E-2,-0.16666666666666663,-0.25,-0.33333333333333337,-0.41666666666666663,-0.5,0.41666666666666669,0.33333333333333331,0.25,0.16666666666666666,8.3333333333333329E-2,0,-8.3333333333333329E-2,-0.16666666666666666,-0.25,-0.33333333333333331,{"$f":"V52+$Q$38","v":3.0001000000000002},null,null,null,"6-r",3,0,-8.333333333333337E-2,-0.16666666666666663,-0.25,-0.33333333333333337,-0.41666666666666663,-0.5,0.41666666666666669,0.33333333333333331,0.25,0.16666666666666666,8.3333333333333329E-2,0,-8.3333333333333329E-2,-0.16666666666666666,-0.25,-0.33333333333333331,-0.29166666666666663,-0.25,-0.20833333333333331,-0.16666666666666666,-0.125,-8.3333333333333329E-2,-4.1666666666666664E-2,0,null,null,null,null,"6-r",3,0,-0.10402,-0.20718000000000003,-0.30859000000000003,-0.40741000000000005,-0.50275000000000003,-0.59375,0.32046000000000002,0.24074000000000001,0.16797000000000001,0.10301,4.6730000000000001E-2,0,-3.6600000000000001E-2,-6.3659999999999994E-2,-8.2030000000000006E-2,-9.2590000000000006E-2,-9.6210000000000004E-2,-9.375E-2,-8.6080000000000004E-2,-7.4069999999999997E-2,-5.8590000000000003E-2,-4.0509999999999997E-2,-2.069E-2,0]
[null,"7-l",3.5,0,-8.333333333333337E-2,-0.16666666666666663,-0.25,-0.33333333333333337,-0.41666666666666663,-0.5,0.41666666666666669,0.33333333333333331,0.25,0.16666666666666666,8.3333333333333329E-2,0,{"$f":"C53-$Q$38","v":3.4998999999999998},null,null,null,"7-l",3.5,0,-8.333333333333337E-2,-0.16666666666666663,-0.25,-0.33333333333333337,-0.41666666666666663,-0.5,0.41666666666666669,0.33333333333333331,0.25,0.16666666666666666,8.3333333333333329E-2,0,-8.3333333333333329E-2,-0.16666666666666666,-0.25,-0.33333333333333331,{"$f":"V53-$Q$38","v":3.4998999999999998},null,null,null,"7-l",3.5,0,-8.333333333333337E-2,-0.16666666666666663,-0.25,-0.33333333333333337,-0.41666666666666663,-0.5,0.41666666666666669,0.33333333333333331,0.25,0.16666666666666666,8.3333333333333329E-2,0,-8.3333333333333329E-2,-0.16666666666666666,-0.25,-0.33333333333333331,-0.29166666666666663,-0.25,-0.20833333333333331,-0.16666666666666666,-0.125,-8.3333333333333329E-2,-4.1666666666666664E-2,0,null,null,null,null,"7-l",3.5,0,-0.10402,-0.20718000000000003,-0.30859000000000003,-0.40741000000000005,-0.50275000000000003,-0.59375,0.32046000000000002,0.24074000000000001,0.16797000000000001,0.10301,4.6730000000000001E-2,0,-3.6600000000000001E-2,-6.3659999999999994E-2,-8.2030000000000006E-2,-9.2590000000000006E-2,-9.6210000000000004E-2,-9.375E-2,-8.6080000000000004E-2,-7.4069999999999997E-2,-5.8590000000000003E-2,-4.0509999999999997E-2,-2.069E-2,0]
[null,"7-r",3.5,0,-8.333333333333337E-2,-0.16666666666666663,-0.25,-0.33333333333333337,-0.41666666666666663,-0.5,-0.58333333333333326,0.33333333333333331,0.25,0.16666666666666666,8.3333333333333329E-2,0,{"$f":"C54+$Q$38","v":3.5001000000000002},null,null,null,"7-r",3.5,0,-8.333333333333337E-2,-0.16666666666666663,-0.25,-0.33333333333333337,-0.41666666666666663,-0.5,-0.58333333333333326,0.33333333333333331,0.25,0.16666666666666666,8.3333333333333329E-2,0,-8.3333333333333329E-2,-0.16666666666666666,-0.25,-0.33333333333333331,{"$f":"V54+$Q$38","v":3.5001000000000002},null,null,null,"7-r",3.5,0,-8.333333333333337E-2,-0.16666666666666663,-0.25,-0.33333333333333337,-0.41666666666666663,-0.5,-0.58333333333333326,0.33333333333333331,0.25,0.16666666666666666,8.3333333333333329E-2,0,-8.3333333333333329E-2,-0.16666666666666666,-0.25,-0.33333333333333331,-0.29166666666666663,-0.25,-0.20833333333333331,-0.16666666666666666,-0.125,-8.3333333333333329E-2,-4.1666666666666664E-2,0,null,null,null,null,"7-r",3.5,0,-0.10402,-0.20718000000000003,-0.30859000000000003,-0.40741000000000005,-0.50275000000000003,-0.59375,-0.67954000000000003,0.24074000000000001,0.16797000000000001,0.10301,4.6730000000000001E-2,0,-3.6600000000000001E-2,-6.3659999999999994E-2,-8.2030000000000006E-2,-9.2590000000000006E-2,-9.6210000000000004E-2,-9.375E-2,-8.6080000000000004E-2,-7.4069999999999997E-2,-5.8590000000000003E-2,-4.0509999999999997E-2,-2.069E-2,0]
[null,"8-l",4,0,-8.333333333333337E-2,-0.16666666666666663,-0.25,-0.33333333333333337,-0.41666666666666663,-0.5,-0.58333333333333326,0.33333333333333331,0.25,0.16666666666666666,8.3333333333333329E-2,0,{"$f":"C55-$Q$38","v":3.9998999999999998},null,null,null,"8-l",4,0,-8.333333333333337E-2,-0.16666666666666663,-0.25,-0.33333333333333337,-0.41666666666666663,-0.5,-0.58333333333333326,0.33333333333333331,0.25,0.16666666666666666,8.3333333333333329E-2,0,-8.3333333333333329E-2,-0.16666666666666666,-0.25,-0.33333333333333331,{"$f":"V55-$Q$38","v":3.9998999999999998},null,null,null,"8-l",4,0,-8.333333333333337E-2,-0.16666666666666663,-0.25,-0.33333333333333337,-0.41666666666666663,-0.5,-0.58333333333333326,0.33333333333333331,0.25,0.16666666666666666,8.3333333333333329E-2,0,-8.3333333333333329E-2,-0.16666666666666666,-0.25,-0.33333333333333331,-0.29166666666666663,-0.25,-0.20833333333333331,-0.16666666666666666,-0.125,-8.3333333333333329E-2,-4.1666666666666664E-2,0,null,null,null,null,"8-l",4,0,-0.10402,-0.20718000000000003,-0.30859000000000003,-0.40741000000000005,-0.50275000000000003,-0.59375,-0.67954000000000003,0.24074000000000001,0.16797000000000001,0.10301,4.6730000000000001E-2,0,-3.6600000000000001E-2,-6.3659999999999994E-2,-8.2030000000000006E-2,-9.2590000000000006E-2,-9.6210000000000004E-2,-9.375E-2,-8.6080000000000004E-2,-7.4069999999999997E-2,-5.8590000000000003E-2,-4.0509999999999997E-2,-2.069E-2,0]
[null,"8-r",4,0,-8.333333333333337E-2,-0.16666666666666663,-0.25,-0.33333333333333337,-0.41666666666666663,-0.5,-0.58333333333333326,-0.66666666666666674,0.25,0.16666666666666666,8.3333333333333329E-2,0,{"$f":"C56+$Q$38","v":4.0000999999999998},null,null,null,"8-r",4,0,-8.333333333333337E-2,-0.16666666666666663,-0.25,-0.33333333333333337,-0.41666666666666663,-0.5,-0.58333333333333326,-0.66666666666666674,0.25,0.16666666666666666,8.3333333333333329E-2,0,-8.3333333333333329E-2,-0.16666666666666666,-0.25,-0.33333333333333331,{"$f":"V56+$Q$38","v":4.0000999999999998},null,null,null,"8-r",4,0,-8.333333333333337E-2,-0.16666666666666663,-0.25,-0.33333333333333337,-0.41666666666666663,-0.5,-0.58333333333333326,-0.66666666666666674,0.25,0.16666666666666666,8.3333333333333329E-2,0,-8.3333333333333329E-2,-0.16666666666666666,-0.25,-0.33333333333333331,-0.29166666666666663,-0.25,-0.20833333333333331,-0.16666666666666666,-0.125,-8.3333333333333329E-2,-4.1666666666666664E-2,0,null,null,null,null,"8-r",4,0,-0.10402,-0.20718000000000003,-0.30859000000000003,-0.40741000000000005,-0.50275000000000003,-0.59375,-0.67954000000000003,-0.75926000000000005,0.16797000000000001,0.10301,4.6730000000000001E-2,0,-3.6600000000000001E-2,-6.3659999999999994E-2,-8.2030000000000006E-2,-9.2590000000000006E-2,-9.6210000000000004E-2,-9.375E-2,-8.6080000000000004E-2,-7.4069999999999997E-2,-5.8590000000000003E-2,-4.0509999999999997E-2,-2.069E-2,0]
[null,"9-l",4.5,0,-8.333333333333337E-2,-0.16666666666666663,-0.25,-0.33333333333333337,-0.41666666666666663,-0.5,-0.58333333333333326,-0.66666666666666674,0.25,0.16666666666666666,8.3333333333333329E-2,0,{"$f":"C57-$Q$38","v":4.4999000000000002},null,null,null,"9-l",4.5,0,-8.333333333333337E-2,-0.16666666666666663,-0.25,-0.33333333333333337,-0.41666666666666663,-0.5,-0.58333333333333326,-0.66666666666666674,0.25,0.16666666666666666,8.3333333333333329E-2,0,-8.3333333333333329E-2,-0.16666666666666666,-0.25,-0.33333333333333331,{"$f":"V57-$Q$38","v":4.4999000000000002},null,null,null,"9-l",4.5,0,-8.333333333333337E-2,-0.16666666666666663,-0.25,-0.33333333333333337,-0.41666666666666663,-0.5,-0.58333333333333326,-0.66666666666666674,0.25,0.16666666666666666,8.3333333333333329E-2,0,-8.3333333333333329E-2,-0.16666666666666666,-0.25,-0.33333333333333331,-0.29166666666666663,-0.25,-0.20833333333333331,-0.16666666666666666,-0.125,-8.3333333333333329E-2,-4.1666666666666664E-2,0,null,null,null,null,"9-l",4.5,0,-0.10402,-0.20718000000000003,-0.30859000000000003,-0.40741000000000005,-0.50275000000000003,-0.59375,-0.67954000000000003,-0.75926000000000005,{"$f":"CH$34","v":0.16797000000000001},0.10301,4.6730000000000001E-2,0,-3.6600000000000001E-2,-6.3659999999999994E-2,-8.2030000000000006E-2,-9.2590000000000006E-2,-9.6210000000000004E-2,-9.375E-2,-8.6080000000000004E-2,-7.4069999999999997E-2,-5.8590000000000003E-2,-4.0509999999999997E-2,-2.069E-2,0]
[null,"9-r",4.5,0,-8.333333333333337E-2,-0.16666666666666663,-0.25,-0.33333333333333337,-0.41666666666666663,-0.5,-0.58333333333333326,-0.66666666666666674,-0.75,0.16666666666666666,8.3333333333333329E-2,0,{"$f":"C58+$Q$38","v":4.5000999999999998},null,null,null,"9-r",4.5,0,-8.333333333333337E-2,-0.16666666666666663,-0.25,-0.33333333333333337,-0.41666666666666663,-0.5,-0.58333333333333326,-0.66666666666666674,-0.75,0.16666666666666666,8.3333333333333329E-2,0,-8.3333333333333329E-2,-0.16666666666666666,-0.25,-0.33333333333333331,{"$f":"V58+$Q$38","v":4.5000999999999998},null,null,null,"9-r",4.5,0,-8.333333333333337E-2,-0.16666666666666663,-0.25,-0.33333333333333337,-0.41666666666666663,-0.5,-0.58333333333333326,-0.66666666666666674,-0.75,0.16666666666666666,8.3333333333333329E-2,0,-8.3333333333333329E-2,-0.16666666666666666,-0.25,-0.33333333333333331,-0.29166666666666663,-0.25,-0.20833333333333331,-0.16666666666666666,-0.125,-8.3333333333333329E-2,-4.1666666666666664E-2,0,null,null,null,null,"9-r",4.5,0,-0.10402,-0.20718000000000003,-0.30859000000000003,-0.40741000000000005,-0.50275000000000003,-0.59375,-0.67954000000000003,-0.75926000000000005,-0.83203000000000005,0.10301,4.6730000000000001E-2,0,-3.6600000000000001E-2,-6.3659999999999994E-2,-8.2030000000000006E-2,-9.2590000000000006E-2,-9.6210000000000004E-2,-9.375E-2,-8.6080000000000004E-2,-7.4069999999999997E-2,-5.8590000000000003E-2,-4.0509999999999997E-2,-2.069E-2,0]
[null,"10-l",5,0,-8.333333333333337E-2,-0.16666666666666663,-0.25,-0.33333333333333337,-0.41666666666666663,-0.5,-0.58333333333333326,-0.66666666666666674,-0.75,0.16666666666666666,8.3333333333333329E-2,0,{"$f":"C59-$Q$38","v":4.9999000000000002},null,null,null,"10-l",5,0,-8.333333333333337E-2,-0.16666666666666663,-0.25,-0.33333333333333337,-0.41666666666666663,-0.5,-0.58333333333333326,-0.66666666666666674,-0.75,0.16666666666666666,8.3333333333333329E-2,0,-8.3333333333333329E-2,-0.16666666666666666,-0.25,-0.33333333333333331,{"$f":"V59-$Q$38","v":4.9999000000000002},null,null,null,"10-l",5,0,-8.333333333333337E-2,-0.16666666666666663,-0.25,-0.33333333333333337,-0.41666666666666663,-0.5,-0.58333333333333326,-0.66666666666666674,-0.75,0.16666666666666666,8.3333333333333329E-2,0,-8.3333333333333329E-2,-0.16666666666666666,-0.25,-0.33333333333333331,-0.29166666666666663,-0.25,-0.20833333333333331,-0.16666666666666666,-0.125,-8.3333333333333329E-2,-4.1666666666666664E-2,0,null,null,null,null,"10-l",5,0,-0.10402,-0.20718000000000003,-0.30859000000000003,-0.40741000000000005,-0.50275000000000003,-0.59375,-0.67954000000000003,-0.75926000000000005,-0.83203000000000005,0.10301,4.6730000000000001E-2,0,-3.6600000000000001E-2,-6.3659999999999994E-2,-8.2030000000000006E-2,-9.2590000000000006E-2,-9.6210000000000004E-2,-9.375E-2,-8.6080000000000004E-2,-7.4069999999999997E-2,-5.8590000000000003E-2,-4.0509999999999997E-2,-2.069E-2,0]
[null,"10-r",5,0,-8.333333333333337E-2,-0.16666666666666663,-0.25,-0.33333333333333337,-0.41666666666666663,-0.5,-0.58333333333333326,-0.66666666666666674,-0.75,-0.83333333333333337,8.3333333333333329E-2,0,{"$f":"C60+$Q$38","v":5.0000999999999998},null,null,null,"10-r",5,0,-8.333333333333337E-2,-0.16666666666666663,-0.25,-0.33333333333333337,-0.41666666666666663,-0.5,-0.58333333333333326,-0.66666666666666674,-0.75,-0.83333333333333337,8.3333333333333329E-2,0,-8.3333333333333329E-2,-0.16666666666666666,-0.25,-0.33333333333333331,{"$f":"V60+$Q$38","v":5.0000999999999998},null,null,null,"10-r",5,0,-8.333333333333337E-2,-0.16666666666666663,-0.25,-0.33333333333333337,-0.41666666666666663,-0.5,-0.58333333333333326,-0.66666666666666674,-0.75,-0.83333333333333337,8.3333333333333329E-2,0,-8.3333333333333329E-2,-0.16666666666666666,-0.25,-0.33333333333333331,-0.29166666666666663,-0.25,-0.20833333333333331,-0.16666666666666666,-0.125,-8.3333333333333329E-2,-4.1666666666666664E-2,0,null,null,null,null,"10-r",5,0,-0.10402,-0.20718000000000003,-0.30859000000000003,-0.40741000000000005,-0.50275000000000003,-0.59375,-0.67954000000000003,-0.75926000000000005,-0.83203000000000005,-0.89698999999999995,4.6730000000000001E-2,0,-3.6600000000000001E-2,-6.3659999999999994E-2,-8.2030000000000006E-2,-9.2590000000000006E-2,-9.6210000000000004E-2,-9.375E-2,-8.6080000000000004E-2,-7.4069999999999997E-2,-5.8590000000000003E-2,-4.0509999999999997E-2,-2.069E-2,0]
[null,"11-l",5.5,0,-8.333333333333337E-2,-0.16666666666666663,-0.25,-0.33333333333333337,-0.41666666666666663,-0.5,-0.58333333333333326,-0.66666666666666674,-0.75,-0.83333333333333337,8.3333333333333329E-2,0,{"$f":"C61-$Q$38","v":5.4999000000000002},null,null,null,"11-l",5.5,0,-8.333333333333337E-2,-0.16666666666666663,-0.25,-0.33333333333333337,-0.41666666666666663,-0.5,-0.58333333333333326,-0.66666666666666674,-0.75,-0.83333333333333337,8.3333333333333329E-2,0,-8.3333333333333329E-2,-0.16666666666666666,-0.25,-0.33333333333333331,{"$f":"V61-$Q$38","v":5.4999000000000002},null,null,null,"11-l",5.5,0,-8.333333333333337E-2,-0.16666666666666663,-0.25,-0.33333333333333337,-0.41666666666666663,-0.5,-0.58333333333333326,-0.66666666666666674,-0.75,-0.83333333333333337,8.3333333333333329E-2,0,-8.3333333333333329E-2,-0.16666666666666666,-0.25,-0.33333333333333331,-0.29166666666666663,-0.25,-0.20833333333333331,-0.16666666666666666,-0.125,-8.3333333333333329E-2,-4.1666666666666664E-2,0,null,null,null,null,"11-l",5.5,0,-0.10402,-0.20718000000000003,-0.30859000000000003,-0.40741000000000005,-0.50275000000000003,-0.59375,-0.67954000000000003,-0.75926000000000005,-0.83203000000000005,-0.89698999999999995,4.6730000000000001E-2,0,-3.6600000000000001E-2,-6.3659999999999994E-2,-8.2030000000000006E-2,{"$f":"CO$34","v":-9.2590000000000006E-2},-9.6210000000000004E-2,-9.375E-2,-8.6080000000000004E-2,-7.4069999999999997E-2,-5.8590000000000003E-2,-4.0509999999999997E-2,-2.069E-2,0]
[null,"11-r",5.5,0,-8.333333333333337E-2,-0.16666666666666663,-0.25,-0.33333333333333337,-0.41666666666666663,-0.5,-0.58333333333333326,-0.66666666666666674,-0.75,-0.83333333333333337,-0.91666666666666663,0,{"$f":"C62+$Q$38","v":5.5000999999999998},null,null,null,"11-r",5.5,0,-8.333333333333337E-2,-0.16666666666666663,-0.25,-0.33333333333333337,-0.41666666666666663,-0.5,-0.58333333333333326,-0.66666666666666674,-0.75,-0.83333333333333337,-0.91666666666666663,0,-8.3333333333333329E-2,-0.16666666666666666,-0.25,-0.33333333333333331,{"$f":"V62+$Q$38","v":5.5000999999999998},null,null,null,"11-r",5.5,0,-8.333333333333337E-2,-0.16666666666666663,-0.25,-0.33333333333333337,-0.41666666666666663,-0.5,-0.58333333333333326,-0.66666666666666674,-0.75,-0.83333333333333337,-0.91666666666666663,0,-8.3333333333333329E-2,-0.16666666666666666,-0.25,-0.33333333333333331,-0.29166666666666663,-0.25,-0.20833333333333331,-0.16666666666666666,-0.125,-8.3333333333333329E-2,-4.1666666666666664E-2,0,null,null,null,null,"11-r",5.5,0,-0.10402,-0.20718000000000003,-0.30859000000000003,-0.40741000000000005,-0.50275000000000003,-0.59375,-0.67954000000000003,-0.75926000000000005,-0.83203000000000005,-0.89698999999999995,-0.95326999999999995,0,{"$f":"CL$34","v":-3.6600000000000001E-2},-6.3659999999999994E-2,-8.2030000000000006E-2,-9.2590000000000006E-2,-9.6210000000000004E-2,-9.375E-2,-8.6080000000000004E-2,-7.4069999999999997E-2,-5.8590000000000003E-2,-4.0509999999999997E-2,-2.069E-2,0]
[null,"12-l",6,0,-8.333333333333337E-2,-0.16666666666666663,-0.25,-0.33333333333333337,-0.41666666666666663,-0.5,-0.58333333333333326,-0.66666666666666674,-0.75,-0.83333333333333337,-0.91666666666666663,0,{"$f":"C63-$Q$38","v":5.9999000000000002},null,null,null,"12-l",6,0,-8.333333333333337E-2,-0.16666666666666663,-0.25,-0.33333333333333337,-0.41666666666666663,-0.5,-0.58333333333333326,-0.66666666666666674,-0.75,-0.83333333333333337,-0.91666666666666663,0,-8.3333333333333329E-2,-0.16666666666666666,-0.25,-0.33333333333333331,{"$f":"V63-$Q$38","v":5.9999000000000002},null,null,null,"12-l",6,0,-8.333333333333337E-2,-0.16666666666666663,-0.25,-0.33333333333333337,-0.41666666666666663,-0.5,-0.58333333333333326,-0.66666666666666674,-0.75,-0.83333333333333337,-0.91666666666666663,0,-8.3333333333333329E-2,-0.16666666666666666,-0.25,-0.33333333333333331,-0.29166666666666663,-0.25,-0.20833333333333331,-0.16666666666666666,-0.125,-8.3333333333333329E-2,-4.1666666666666664E-2,0,null,null,null,null,"12-l",6,0,-0.10402,-0.20718000000000003,-0.30859000000000003,-0.40741000000000005,-0.50275000000000003,-0.59375,-0.67954000000000003,-0.75926000000000005,-0.83203000000000005,-0.89698999999999995,-0.95326999999999995,0,-3.6600000000000001E-2,-6.3659999999999994E-2,-8.2030000000000006E-2,-9.2590000000000006E-2,-9.6210000000000004E-2,-9.375E-2,-8.6080000000000004E-2,-7.4069999999999997E-2,-5.8590000000000003E-2,-4.0509999999999997E-2,-2.069E-2,0]
[null,"12-r",null,null,null,null,null,null,null,null,null,null,null,null,null,null,null,null,null,null,"12-r",6,0,0,0,0,0,0,0,0,0,0,0,0,0,{"$f":"$Y$38","v":1},{"$f":"$Y$38","v":1},1,1,{"$f":"V64+$Q$38","v":6.0000999999999998},null,null,null,"12-r",6,0,0,0,0,0,0,0,0,0,0,0,0,0,{"$f":"$AV$38","v":1},{"$f":"$AV$38","v":1},1,1,{"$f":"BK$35+BK$34","v":0.87499999999999989},{"$f":"BL$35+BL$34","v":0.75},0.625,0.5,0.375,0.25,0.125,0,null,null,null,null,"12-r",6,0,{"$f":"-BZ$36","v":2.069E-2},4.0509999999999997E-2,5.8590000000000003E-2,7.4069999999999997E-2,8.6080000000000004E-2,9.375E-2,9.6210000000000004E-2,9.2590000000000006E-2,8.2030000000000006E-2,6.3659999999999994E-2,3.6600000000000001E-2,0,{"$f":"-CL$36+$CA$38","v":0.95326999999999995},0.89698999999999995,0.83203000000000005,0.75926000000000005,0.67954000000000003,0.59375,0.50275000000000003,0.40741000000000005,0.30859000000000003,{"$f":"-CU$36+$CA$38","v":0.20718000000000003},0.10402,0]
[null,"13-l",null,null,null,null,null,null,null,null,null,null,null,null,null,null,null,null,null,null,"13-l",6.5,0,0,0,0,0,0,0,0,0,0,0,0,0,{"$f":"$Y$38","v":1},1,1,1,{"$f":"V65-$Q$38","v":6.4999000000000002},null,null,null,"13-l",6.5,0,0,0,0,0,0,0,0,0,0,0,0,0,{"$f":"$AV$38","v":1},1,1,1,{"$f":"BK$35+BK$34","v":0.87499999999999989},0.75,0.625,0.5,0.375,0.25,0.125,0,null,null,null,null,"13-l",6.5,0,2.069E-2,4.0509999999999997E-2,5.8590000000000003E-2,7.4069999999999997E-2,8.6080000000000004E-2,9.375E-2,9.6210000000000004E-2,9.2590000000000006E-2,8.2030000000000006E-2,6.3659999999999994E-2,3.6600000000000001E-2,0,0.95326999999999995,0.89698999999999995,0.83203000000000005,0.75926000000000005,0.67954000000000003,0.59375,0.50275000000000003,0.40741000000000005,0.30859000000000003,0.20718000000000003,0.10402,0]
[null,"13-r",null,null,null,null,null,null,null,null,null,null,null,null,null,null,null,null,null,null,"13-r",6.5,0,0,0,0,0,0,0,0,0,0,0,0,0,0,1,1,1,{"$f":"V66+$Q$38","v":6.5000999999999998},null,null,null,"13-r",6.5,0,0,0,0,0,0,0,0,0,0,0,0,0,0,1,1,1,0.87499999999999989,0.75,0.625,0.5,0.375,0.25,0.125,0,null,null,null,null,"13-r",6.5,0,2.069E-2,4.0509999999999997E-2,5.8590000000000003E-2,7.4069999999999997E-2,8.6080000000000004E-2,9.375E-2,9.6210000000000004E-2,9.2590000000000006E-2,8.2030000000000006E-2,6.3659999999999994E-2,3.6600000000000001E-2,0,-4.6730000000000001E-2,{"$f":"-CM$36+$CA$38","v":0.89698999999999995},0.83203000000000005,0.75926000000000005,0.67954000000000003,0.59375,0.50275000000000003,0.40741000000000005,0.30859000000000003,0.20718000000000003,0.10402,0]
[null,"14-l",null,null,null,null,null,null,null,null,null,null,null,null,null,null,null,null,null,null,"14-l",7,0,0,0,0,0,0,0,0,0,0,0,0,0,0,1,1,1,{"$f":"V67-$Q$38","v":6.9999000000000002},null,null,null,"14-l",7,0,0,0,0,0,0,0,0,0,0,0,0,0,0,1,1,1,0.87499999999999989,0.75,0.625,0.5,0.375,0.25,0.125,0,null,null,null,null,"14-l",7,0,2.069E-2,4.0509999999999997E-2,5.8590000000000003E-2,7.4069999999999997E-2,8.6080000000000004E-2,9.375E-2,9.6210000000000004E-2,9.2590000000000006E-2,8.2030000000000006E-2,6.3659999999999994E-2,3.6600000000000001E-2,0,-4.6730000000000001E-2,0.89698999999999995,0.83203000000000005,0.75926000000000005,0.67954000000000003,0.59375,0.50275000000000003,0.40741000000000005,0.30859000000000003,0.20718000000000003,0.10402,0]
[null,"14-r",null,null,null,null,null,null,null,null,null,null,null,null,null,null,null,null,null,null,"14-r",7,0,0,0,0,0,0,0,0,0,0,0,0,0,0,0,1,1,{"$f":"V68+$Q$38","v":7.0000999999999998},null,null,null,"14-r",7,0,0,0,0,0,0,0,0,0,0,0,0,0,0,0,1,1,0.87499999999999989,0.75,0.625,0.5,0.375,0.25,0.125,0,null,null,null,null,"14-r",7,0,2.069E-2,4.0509999999999997E-2,5.8590000000000003E-2,7.4069999999999997E-2,8.6080000000000004E-2,9.375E-2,9.6210000000000004E-2,9.2590000000000006E-2,8.2030000000000006E-2,6.3659999999999994E-2,3.6600000000000001E-2,0,-4.6730000000000001E-2,-0.10301,0.83203000000000005,0.75926000000000005,0.67954000000000003,0.59375,0.50275000000000003,0.40741000000000005,0.30859000000000003,0.20718000000000003,0.10402,0]
[null,"15-l",null,null,null,null,null,null,null,null,null,null,null,null,null,null,null,null,null,null,"15-l",7.5,0,0,0,0,0,0,0,0,0,0,0,0,0,0,0,1,1,{"$f":"V69-$Q$38","v":7.4999000000000002},null,null,null,"15-l",7.5,0,0,0,0,0,0,0,0,0,0,0,0,0,0,0,1,1,0.87499999999999989,0.75,0.625,0.5,0.375,0.25,0.125,0,null,null,null,null,"15-l",7.5,0,2.069E-2,4.0509999999999997E-2,5.8590000000000003E-2,7.4069999999999997E-2,8.6080000000000004E-2,9.375E-2,9.6210000000000004E-2,9.2590000000000006E-2,8.2030000000000006E-2,6.3659999999999994E-2,3.6600000000000001E-2,0,-4.6730000000000001E-2,-0.10301,0.83203000000000005,0.75926000000000005,0.67954000000000003,0.59375,0.50275000000000003,0.40741000000000005,0.30859000000000003,0.20718000000000003,0.10402,0]
[null,"15-r",null,null,null,null,null,null,null,null,null,null,null,null,null,null,null,null,null,null,"15-r",7.5,0,0,0,0,0,0,0,0,0,0,0,0,0,0,0,0,1,{"$f":"V70+$Q$38","v":7.5000999999999998},null,null,null,"15-r",7.5,0,0,0,0,0,0,0,0,0,0,0,0,0,0,0,0,1,0.87499999999999989,0.75,0.625,0.5,0.375,0.25,0.125,0,null,null,null,null,"15-r",7.5,0,2.069E-2,4.0509999999999997E-2,5.8590000000000003E-2,7.4069999999999997E-2,8.6080000000000004E-2,9.375E-2,9.6210000000000004E-2,9.2590000000000006E-2,8.2030000000000006E-2,6.3659999999999994E-2,3.6600000000000001E-2,0,-4.6730000000000001E-2,-0.10301,-0.16797000000000001,0.75926000000000005,0.67954000000000003,0.59375,0.50275000000000003,0.40741000000000005,0.30859000000000003,0.20718000000000003,0.10402,0]
[null,"16-l",null,null,null,null,null,null,null,null,null,null,null,null,null,null,null,null,null,null,"16-l",8,0,0,0,0,0,0,0,0,0,0,0,0,0,0,0,0,1,{"$f":"V71-$Q$38","v":7.9999000000000002},null,null,null,"16-l",8,0,0,0,0,0,0,0,0,0,0,0,0,0,0,0,0,1,0.87499999999999989,0.75,0.625,0.5,0.375,0.25,0.125,0,null,null,null,null,"16-l",8,0,2.069E-2,4.0509999999999997E-2,5.8590000000000003E-2,7.4069999999999997E-2,8.6080000000000004E-2,9.375E-2,9.6210000000000004E-2,9.2590000000000006E-2,8.2030000000000006E-2,6.3659999999999994E-2,3.6600000000000001E-2,0,-4.6730000000000001E-2,-0.10301,-0.16797000000000001,0.75926000000000005,0.67954000000000003,0.59375,0.50275000000000003,0.40741000000000005,0.30859000000000003,0.20718000000000003,0.10402,0]
[null,"16-r",null,null,null,null,null,null,null,null,null,null,null,null,null,null,null,null,null,null,"16-r",null,null,null,null,null,null,null,null,null,null,null,null,null,null,null,null,null,null,null,null,null,null,"16-r",8,0,0,0,0,0,0,0,0,0,0,0,0,0,0,0,0,0,{"$f":"BK$71","v":0.87499999999999989},{"$f":"BL$71","v":0.75},0.625,0.5,0.375,0.25,0.125,0,null,null,null,null,"16-r",8,0,2.069E-2,4.0509999999999997E-2,5.8590000000000003E-2,7.4069999999999997E-2,8.6080000000000004E-2,9.375E-2,9.6210000000000004E-2,9.2590000000000006E-2,8.2030000000000006E-2,6.3659999999999994E-2,3.6600000000000001E-2,0,-4.6730000000000001E-2,-0.10301,-0.16797000000000001,-0.24074000000000001,0.67954000000000003,0.59375,0.50275000000000003,0.40741000000000005,0.30859000000000003,0.20718000000000003,0.10402,0]
[null,"17-l",null,null,null,null,null,null,null,null,null,null,null,null,null,null,null,null,null,null,"17-l",null,null,null,null,null,null,null,null,null,null,null,null,null,null,null,null,null,null,null,null,null,null,"17-l",8.5,0,0,0,0,0,0,0,0,0,0,0,0,0,0,0,0,0,{"$f":"BK$71","v":0.87499999999999989},0.75,0.625,0.5,0.375,0.25,0.125,0,null,null,null,null,"17-l",8.5,0,2.069E-2,4.0509999999999997E-2,5.8590000000000003E-2,7.4069999999999997E-2,8.6080000000000004E-2,9.375E-2,9.6210000000000004E-2,9.2590000000000006E-2,8.2030000000000006E-2,6.3659999999999994E-2,3.6600000000000001E-2,0,-4.6730000000000001E-2,-0.10301,-0.16797000000000001,-0.24074000000000001,0.67954000000000003,0.59375,0.50275000000000003,0.40741000000000005,0.30859000000000003,0.20718000000000003,0.10402,0]
[null,"17-r",null,null,null,null,null,null,null,null,null,null,null,null,null,null,null,null,null,null,"17-r",null,null,null,null,null,null,null,null,null,null,null,null,null,null,null,null,null,null,null,null,null,null,"17-r",8.5,0,0,0,0,0,0,0,0,0,0,0,0,0,0,0,0,0,{"$f":"BK$71-$AV$38","v":-0.12500000000000011},0.75,0.625,0.5,0.375,0.25,0.125,0,null,null,null,null,"17-r",8.5,0,2.069E-2,4.0509999999999997E-2,5.8590000000000003E-2,7.4069999999999997E-2,8.6080000000000004E-2,9.375E-2,9.6210000000000004E-2,9.2590000000000006E-2,8.2030000000000006E-2,6.3659999999999994E-2,3.6600000000000001E-2,0,-4.6730000000000001E-2,-0.10301,-0.16797000000000001,-0.24074000000000001,{"$f":"-CP$36","v":-0.32046000000000002},0.59375,0.50275000000000003,0.40741000000000005,0.30859000000000003,0.20718000000000003,0.10402,0]
[null,"18-l",null,null,null,null,null,null,null,null,null,null,null,null,null,null,null,null,null,null,"18-l",null,null,null,null,null,null,null,null,null,null,null,null,null,null,null,null,null,null,null,null,null,null,"18-l",9,0,0,0,0,0,0,0,0,0,0,0,0,0,0,0,0,0,{"$f":"BK$71-$AV$38","v":-0.12500000000000011},0.75,0.625,0.5,0.375,0.25,0.125,0,null,null,null,null,"18-l",9,0,2.069E-2,4.0509999999999997E-2,5.8590000000000003E-2,7.4069999999999997E-2,8.6080000000000004E-2,9.375E-2,9.6210000000000004E-2,9.2590000000000006E-2,8.2030000000000006E-2,6.3659999999999994E-2,3.6600000000000001E-2,0,-4.6730000000000001E-2,-0.10301,-0.16797000000000001,-0.24074000000000001,-0.32046000000000002,0.59375,0.50275000000000003,0.40741000000000005,0.30859000000000003,0.20718000000000003,0.10402,0]
[null,"18-r",null,null,null,null,null,null,null,null,null,null,null,null,null,null,null,null,null,null,"18-r",null,null,null,null,null,null,null,null,null,null,null,null,null,null,null,null,null,null,null,null,null,null,"18-r",9,0,0,0,0,0,0,0,0,0,0,0,0,0,0,0,0,0,-0.12500000000000011,{"$f":"BL$71-$AV$38","v":-0.25},0.625,0.5,0.375,0.25,0.125,0,null,null,null,null,"18-r",9,0,2.069E-2,4.0509999999999997E-2,5.8590000000000003E-2,7.4069999999999997E-2,8.6080000000000004E-2,9.375E-2,9.6210000000000004E-2,9.2590000000000006E-2,8.2030000000000006E-2,6.3659999999999994E-2,3.6600000000000001E-2,0,-4.6730000000000001E-2,-0.10301,-0.16797000000000001,-0.24074000000000001,-0.32046000000000002,{"$f":"-CQ$36","v":-0.40625},0.50275000000000003,0.40741000000000005,0.30859000000000003,0.20718000000000003,0.10402,0]
[null,"19-l",null,null,null,null,null,null,null,null,null,null,null,null,null,null,null,null,null,null,"19-l",null,null,null,null,null,null,null,null,null,null,null,null,null,null,null,null,null,null,null,null,null,null,"19-l",9.5,0,0,0,0,0,0,0,0,0,0,0,0,0,0,0,0,0,-0.12500000000000011,-0.25,0.625,0.5,0.375,0.25,0.125,0,null,null,null,null,"19-l",9.5,0,2.069E-2,4.0509999999999997E-2,5.8590000000000003E-2,7.4069999999999997E-2,8.6080000000000004E-2,9.375E-2,9.6210000000000004E-2,9.2590000000000006E-2,8.2030000000000006E-2,6.3659999999999994E-2,3.6600000000000001E-2,0,-4.6730000000000001E-2,-0.10301,-0.16797000000000001,-0.24074000000000001,-0.32046000000000002,-0.40625,0.50275000000000003,0.40741000000000005,0.30859000000000003,0.20718000000000003,0.10402,0]
[null,"19-r",null,null,null,null,null,null,null,null,null,null,null,null,null,null,null,null,null,null,"19-r",null,null,null,null,null,null,null,null,null,null,null,null,null,null,null,null,null,null,null,null,null,null,"19-r",9.5,0,0,0,0,0,0,0,0,0,0,0,0,0,0,0,0,0,-0.12500000000000011,-0.25,{"$f":"BM$71-$AV$38","v":-0.375},0.5,0.375,0.25,0.125,0,null,null,null,null,"19-r",9.5,0,2.069E-2,4.0509999999999997E-2,5.8590000000000003E-2,7.4069999999999997E-2,8.6080000000000004E-2,9.375E-2,9.6210000000000004E-2,9.2590000000000006E-2,8.2030000000000006E-2,6.3659999999999994E-2,3.6600000000000001E-2,0,-4.6730000000000001E-2,-0.10301,-0.16797000000000001,-0.24074000000000001,-0.32046000000000002,-0.40625,{"$f":"-CR$36","v":-0.49725000000000003},0.40741000000000005,0.30859000000000003,0.20718000000000003,0.10402,0]
[null,"20-l",null,null,null,null,null,null,null,null,null,null,null,null,null,null,null,null,null,null,"20-l",null,null,null,null,null,null,null,null,null,null,null,null,null,null,null,null,null,null,null,null,null,null,"20-l",10,0,0,0,0,0,0,0,0,0,0,0,0,0,0,0,0,0,-0.12500000000000011,-0.25,-0.375,0.5,0.375,0.25,0.125,0,null,null,null,null,"20-l",10,0,2.069E-2,4.0509999999999997E-2,5.8590000000000003E-2,7.4069999999999997E-2,8.6080000000000004E-2,9.375E-2,9.6210000000000004E-2,9.2590000000000006E-2,8.2030000000000006E-2,6.3659999999999994E-2,3.6600000000000001E-2,0,-4.6730000000000001E-2,-0.10301,-0.16797000000000001,-0.24074000000000001,-0.32046000000000002,-0.40625,-0.49725000000000003,0.40741000000000005,0.30859000000000003,0.20718000000000003,0.10402,0]
[null,"20-r",null,null,null,null,null,null,null,null,null,null,null,null,null,null,null,null,null,null,"20-r",null,null,null,null,null,null,null,null,null,null,null,null,null,null,null,null,null,null,null,null,null,null,"20-r",10,0,0,0,0,0,0,0,0,0,0,0,0,0,0,0,0,0,-0.12500000000000011,-0.25,-0.375,{"$f":"BN71-$AV$38","v":-0.5},0.375,0.25,0.125,0,null,null,null,null,"20-r",10,0,2.069E-2,4.0509999999999997E-2,5.8590000000000003E-2,7.4069999999999997E-2,8.6080000000000004E-2,9.375E-2,9.6210000000000004E-2,9.2590000000000006E-2,8.2030000000000006E-2,6.3659999999999994E-2,3.6600000000000001E-2,0,-4.6730000000000001E-2,-0.10301,-0.16797000000000001,-0.24074000000000001,-0.32046000000000002,-0.40625,-0.49725000000000003,{"$f":"-CS$36","v":-0.59258999999999995},0.30859000000000003,0.20718000000000003,0.10402,0]
[null,"21-l",null,null,null,null,null,null,null,null,null,null,null,null,null,null,null,null,null,null,"21-l",null,null,null,null,null,null,null,null,null,null,null,null,null,null,null,null,null,null,null,null,null,null,"21-l",10.5,0,0,0,0,0,0,0,0,0,0,0,0,0,0,0,0,0,-0.12500000000000011,-0.25,-0.375,{"$f":"BN72-$AV$38","v":-0.5},0.375,0.25,0.125,0,null,null,null,null,"21-l",10.5,0,2.069E-2,4.0509999999999997E-2,5.8590000000000003E-2,{"$f":"-CC$36","v":7.4069999999999997E-2},8.6080000000000004E-2,9.375E-2,9.6210000000000004E-2,9.2590000000000006E-2,8.2030000000000006E-2,6.3659999999999994E-2,3.6600000000000001E-2,0,-4.6730000000000001E-2,-0.10301,-0.16797000000000001,-0.24074000000000001,-0.32046000000000002,-0.40625,-0.49725000000000003,-0.59258999999999995,0.30859000000000003,0.20718000000000003,0.10402,0]
[null,"21-r",null,null,null,null,null,null,null,null,null,null,null,null,null,null,null,null,null,null,"21-r",null,null,null,null,null,null,null,null,null,null,null,null,null,null,null,null,null,null,null,null,null,null,"21-r",10.5,0,0,0,0,0,0,0,0,0,0,0,0,0,0,0,0,0,-0.12500000000000011,-0.25,-0.375,-0.5,{"$f":"BO$71-$AV$38","v":-0.625},0.25,0.125,0,null,null,null,null,"21-r",10.5,0,{"$f":"-BZ$36","v":2.069E-2},4.0509999999999997E-2,5.8590000000000003E-2,7.4069999999999997E-2,8.6080000000000004E-2,9.375E-2,9.6210000000000004E-2,9.2590000000000006E-2,8.2030000000000006E-2,6.3659999999999994E-2,3.6600000000000001E-2,0,-4.6730000000000001E-2,-0.10301,-0.16797000000000001,-0.24074000000000001,-0.32046000000000002,-0.40625,-0.49725000000000003,-0.59258999999999995,{"$f":"-CT$36","v":-0.69140999999999997},0.20718000000000003,0.10402,0]
[null,"22-l",null,null,null,null,null,null,null,null,null,null,null,null,null,null,null,null,null,null,"22-l",null,null,null,null,null,null,null,null,null,null,null,null,null,null,null,null,null,null,null,null,null,null,"22-l",11,0,0,0,0,0,0,0,0,0,0,0,0,0,0,0,0,0,-0.12500000000000011,-0.25,-0.375,-0.5,{"$f":"BO$71-$AV$38","v":-0.625},0.25,0.125,0,null,null,null,null,"22-l",11,0,2.069E-2,4.0509999999999997E-2,5.8590000000000003E-2,7.4069999999999997E-2,8.6080000000000004E-2,9.375E-2,9.6210000000000004E-2,9.2590000000000006E-2,8.2030000000000006E-2,6.3659999999999994E-2,3.6600000000000001E-2,0,-4.6730000000000001E-2,-0.10301,-0.16797000000000001,-0.24074000000000001,-0.32046000000000002,-0.40625,-0.49725000000000003,-0.59258999999999995,-0.69140999999999997,{"$f":"-CU$36+$CA$38","v":0.20718000000000003},0.10402,0]
[null,"22-r",null,null,null,null,null,null,null,null,null,null,null,null,null,null,null,null,null,null,"22-r",null,null,null,null,null,null,null,null,null,null,null,null,null,null,null,null,null,null,null,null,null,null,"22-r",11,0,0,0,0,0,0,0,0,0,0,0,0,0,0,0,0,0,-0.12500000000000011,-0.25,-0.375,-0.5,-0.625,{"$f":"BP$71-$AV$38","v":-0.75},0.125,0,null,null,null,null,"22-r",11,0,2.069E-2,4.0509999999999997E-2,5.8590000000000003E-2,7.4069999999999997E-2,8.6080000000000004E-2,9.375E-2,9.6210000000000004E-2,9.2590000000000006E-2,8.2030000000000006E-2,6.3659999999999994E-2,3.6600000000000001E-2,0,-4.6730000000000001E-2,-0.10301,-0.16797000000000001,-0.24074000000000001,-0.32046000000000002,-0.40625,-0.49725000000000003,-0.59258999999999995,-0.69140999999999997,{"$f":"-CU$36","v":-0.79281999999999997},0.10402,0]
[null,"23-l",null,null,null,null,null,null,null,null,null,null,null,null,null,null,null,null,null,null,"23-l",null,null,null,null,null,null,null,null,null,null,null,null,null,null,null,null,null,null,null,null,null,null,"23-l",11.5,0,0,0,0,0,0,0,0,0,0,0,0,0,0,0,0,0,-0.12500000000000011,-0.25,-0.375,-0.5,-0.625,-0.75,0.125,0,null,null,null,null,"23-l",11.5,0,2.069E-2,4.0509999999999997E-2,5.8590000000000003E-2,7.4069999999999997E-2,8.6080000000000004E-2,9.375E-2,9.6210000000000004E-2,9.2590000000000006E-2,8.2030000000000006E-2,6.3659999999999994E-2,3.6600000000000001E-2,0,-4.6730000000000001E-2,-0.10301,-0.16797000000000001,-0.24074000000000001,-0.32046000000000002,-0.40625,-0.49725000000000003,-0.59258999999999995,-0.69140999999999997,{"$f":"-CU$36","v":-0.79281999999999997},0.10402,0]
[null,"23-r",null,null,null,null,null,null,null,null,null,null,null,null,null,null,null,null,null,null,"23-r",null,null,null,null,null,null,null,null,null,null,null,null,null,null,null,null,null,null,null,null,null,null,"23-r",11.5,0,0,0,0,0,0,0,0,0,0,0,0,0,0,0,0,0,-0.12500000000000011,-0.25,-0.375,-0.5,-0.625,-0.75,{"$f":"BQ$71-$AV$38","v":-0.875},0,null,null,null,null,"23-r",11.5,0,2.069E-2,4.0509999999999997E-2,5.8590000000000003E-2,7.4069999999999997E-2,8.6080000000000004E-2,9.375E-2,9.6210000000000004E-2,9.2590000000000006E-2,8.2030000000000006E-2,6.3659999999999994E-2,3.6600000000000001E-2,0,-4.6730000000000001E-2,-0.10301,-0.16797000000000001,-0.24074000000000001,-0.32046000000000002,-0.40625,-0.49725000000000003,-0.59258999999999995,-0.69140999999999997,{"$f":"-CU$36","v":-0.79281999999999997},{"$f":"-CV$36","v":-0.89598},0]
[null,"24-l",null,null,null,null,null,null,null,null,null,null,null,null,null,null,null,null,null,null,"24-l",null,null,null,null,null,null,null,null,null,null,null,null,null,null,null,null,null,null,null,null,null,null,"24-l",12,0,0,0,0,0,0,0,0,0,0,0,0,0,0,0,0,0,-0.12500000000000011,-0.25,-0.375,-0.5,-0.625,-0.75,{"$f":"BQ$71-$AV$38","v":-0.875},0,null,null,null,null,"24-l",12,0,2.069E-2,4.0509999999999997E-2,5.8590000000000003E-2,7.4069999999999997E-2,8.6080000000000004E-2,9.375E-2,9.6210000000000004E-2,9.2590000000000006E-2,8.2030000000000006E-2,6.3659999999999994E-2,3.6600000000000001E-2,0,-4.6730000000000001E-2,-0.10301,-0.16797000000000001,-0.24074000000000001,-0.32046000000000002,-0.40625,-0.49725000000000003,-0.59258999999999995,-0.69140999999999997,{"$f":"-CU$36","v":-0.79281999999999997},{"$f":"-CV$36","v":-0.89598},0]

{"sheet":"GD1","index":2,"n_rows":58,"n_cols":16,"rows_kept":58,"cut":false,"hidden":false,"merged":[]}
[1,2,3,4,5,6,7,8,9,10,11,12,13,14,15,16]
[null,"Systemdaten"]
[null,"System","Schnitte 1","Schnitte 2","Lageranz.","Lager 1","Lager 2","Lager 3","Pos M (Z)","Pos M (S)","Pos A (Z)","Pos A (S)","Pos Q (Z)","Pos Q (S)","Bezeichnung","Ges.-länge"]
[null,1,12,22,2,0,6,null,5,3,33,3,39,3,"Einfeldträger",6]
[null,2,16,30,2,0,6,null,5,22,33,22,39,22,"Einfeldträger mit Kragarm",8]
[null,3,24,46,3,0,6,12,5,45,33,45,39,45,"2-feldriger Gelenkträger",12]
[null,4,24,46,3,0,6,12,5,76,33,76,39,76,"Zweifeldträger",12]
[]
[null,"Eingabedaten",null,"Auswahl","Extr.-wert","Geom",null,"Eingabedaten",null,"Auswahl","Schnitt","Geom"]
[null,"Gewähltes System",null,2,4,{"$f":"IF(D10=1,P4,IF(D10=2,P5,IF(D10=3,P6,P7)))","v":8},null,"Art der Einf.-linie",null,1,6,{"$f":"K10/E11*F10","v":3}]
[null,"Gew. Laststellung",null,0,{"$f":"VLOOKUP(D10,B4:D7,2)","v":16},{"$f":"D11/E11*F10","v":0},null,null,"1 =","Biegemoment"]
[null,"Gew. Lastfaktor",null,101,"{-100/100}",{"$f":"D12-100","v":1},null,null,"2 =","Auflagerkraft",null,"Links v.S.","Rechts"]
[null,"Gew. E-Linie",null,{"$f":"J10*1","v":1},3,null,null,null,"3 =","Querkraft",{"$f":"IF(L13,0,1)*1","v":0},true,false]
[null,"Hilfsgrößen",null,"Einfeldträger mit Kragarm",null,null,null,"Hilfsgrößen",null,"Biegemoment"]
[]
[null,"extr. Schnittgrößen",null,null,null,null,null,null,null,"Diagrammdaten"]
[null,"System","min M","max M","min A","max A","min Q","max Q",null,"System","x-Wert","EL-Wert"]
[null,1,0,{"$f":"F12*P4/4","v":1.5},{"$f":"G18","v":-1},1,{"$f":"-F12","v":-1},{"$f":"F12","v":1},null,0,0,0]
[null,2,{"$f":"-F12*2","v":-2},{"$f":"D18","v":1.5},-1,{"$f":"F18*4/3","v":1.3333333333333333},{"$f":"G18","v":-1},{"$f":"H18*4/3","v":1.3333333333333333},null,1,0.5,0]
[null,3,{"$f":"C19","v":-2},{"$f":"D18","v":1.5},-1,1.3333333333333333,{"$f":"G19","v":-1},{"$f":"H19","v":1.3333333333333333},null,2,1,0]
[null,4,{"$f":"C20/3","v":-0.66666666666666663},{"$f":"F12*4/3","v":1.3333333333333333},-1,1,{"$f":"G18","v":-1},{"$f":"H18","v":1},null,3,1.5,0]
[null,null,null,null,null,null,null,null,null,4,2,0]
[null,"Diagrammdaten",null,null,null,null,null,null,null,5,2.5,0]
[null,null,"x-Wert","EL-Wert",null,null,"x-Wert","EL-Wert",null,6,3,0]
[null,"Linie 0",0,0,null,"Linie 13",{"$f":"C49+0.5","v":6.5},0,null,7,3.5,0]
[null,null,0,{"$f":"L18","v":0},null,null,{"$f":"C50+0.5","v":6.5},{"$f":"L31","v":0},null,8,4,0]
[null,"Linie 1",{"$f":"C25+0.5","v":0.5},0,null,"Linie 14",{"$f":"G25+0.5","v":7},0,null,9,4.5,0]
[null,null,0.5,{"$f":"L19","v":0},null,null,7,{"$f":"L32","v":0},null,10,5,0]
[null,"Linie 2",1,0,null,"Linie 15",7.5,0,null,11,5.5,0]
[null,null,1,{"$f":"L20","v":0},null,null,7.5,{"$f":"L33","v":0},null,12,6,0]
[null,"Linie 3",1.5,0,null,"Linie 16",8,0,null,13,6.5,0]
[null,null,1.5,{"$f":"L21","v":0},null,null,8,{"$f":"L34","v":0},null,14,7,0]
[null,"Linie 4",2,0,null,"Linie 17",8.5,0,null,15,7.5,0]
[null,null,2,{"$f":"L22","v":0},null,null,8.5,{"$f":"L35","v":0},null,16,8,0]
[null,"Linie 5",2.5,0,null,"Linie 18",9,0,null,17,8.5,0]
[null,null,2.5,{"$f":"L23","v":0},null,null,9,{"$f":"L36","v":0},null,18,9,0]
[null,"Linie 6",3,0,null,"Linie 19",9.5,0,null,19,9.5,0]
[null,null,3,{"$f":"L24","v":0},null,null,9.5,{"$f":"L37","v":0},null,20,10,0]
[null,"Linie 7",3.5,0,null,"Linie 20",10,0,null,21,10.5,0]
[null,null,3.5,{"$f":"L25","v":0},null,null,10,{"$f":"L38","v":0},null,22,11,0]
[null,"Linie 8",4,0,null,"Linie 21",10.5,0,null,23,11.5,0]
[null,null,4,{"$f":"L26","v":0},null,null,10.5,{"$f":"L39","v":0},null,24,12,0]
[null,"Linie 9",4.5,0,null,"Linie 22",11,0,null,null,null,{"$f":"VLOOKUP(D11,J18:L42,3)","v":0}]
[null,null,4.5,{"$f":"L27","v":0},null,null,11,{"$f":"L40","v":0}]
[null,"Linie 10",5,0,null,"Linie 23",11.5,0]
[null,null,5,{"$f":"L28","v":0},null,null,11.5,{"$f":"L41","v":0}]
[null,"Linie 11",5.5,0,null,"Linie 24",12,0]
[null,null,5.5,{"$f":"L29","v":0},null,null,12,{"$f":"L42","v":0}]
[null,"Linie 12",6,0]
[null,null,6,{"$f":"L30","v":0}]
[]
[]
[null,"Diagrammdaten"]
[null,null,"x-Wert","EL-Wert",null,null,"x-Wert","EL-Wert"]
[null,"H-Linie1",{"$f":"F11","v":0},{"$f":"L43","v":0},null,"H-LinieE",{"$f":"C58","v":3},{"$f":"P43","v":0}]
[null,null,{"$f":"F10","v":8},{"$f":"D55","v":0},null,null,{"$f":"G55","v":3},{"$f":"D55","v":0}]
[null,"H-Linie2",0,{"$f":"D55","v":0}]
[null,null,{"$f":"L10","v":3},{"$f":"D57","v":0}]